Workbook

Sheet 申請書兼請求書・様式1
B1: 様式第１（第７条関係）
A2: 燃料電池商用車燃料費等補助金交付申請書兼請求書
S4: 申請日 年 月 日
B5: 愛知県知事殿
B7: 燃料電池商用車燃料費等補助金の交付を受けたいので、以下のとおり申請します。
B8: 交付申請書の内容に一切の虚偽がないことを誓約します。
B9: 交付申請者は交付要綱第４条第１項各号のいずれにも該当することを誓約します。
B10: 交付申請者は交付要綱第４条第２項各号のいずれにも該当しないことを誓約します。
B11: その他、交付要綱について全て確認し、了承しています。
B12: 交付要綱に違反している場合、交付決定の取り消しを受けること又は補助金を返還することに異議を申し立てません。
N14: 記
B15: 1.申請者情報
B16: フリガナ
B17: 氏名又は 名称
B18: 住所又は 所在地 | D18: 〒 －
B19: 代表者役職・氏名 | D19: 役職 | P19: フリガナ
P20: 氏名
B21: 郵便物の希望送付先住所 | I21: 上記住所と同じ
D22: 〒 | E22: -
B23: 担当者名・電話番号 | D23: 担当者名 | O23: 電話番号 | R23: － －
B24: 担当者メールアドレス
B25: 2.振込先口座
B26: 金融機関コード | H26: 金融機関名称 | V26: 銀行 農協 金庫 組合
B27: 支店コード | H27: 支店名称 | V27: 本店 支店 支所 出張所
B28: 口座種別 | D28: 普通 当座
B29: 口座番号
B30: 口座名義(ｶﾅ)
B32: 3.申請額・請求額
AJ33: バス | AK33: 476 | AM33: バス | AN33: ー
B34: 該当月 | E34: 燃料電池商用車に充填を受けた 水素重量(kg) | L34: 燃料電池トラックの 有料道路利用費(円)※ | V34: {=_xlfn.LET(_xlpm.start,12+ROWS(#REF!),_xlpm.v,IFERROR(INDEX(別紙!E:E,_xlfn.SEQUENCE(40,1,_xlpm.start,13)),0),_xlpm.s,SUM(_xlpm.v),IF(_xlpm.s=0,"",_xlpm.s))} | AJ34: タクシー | AK34: 576 | AM34: タクシー | AN34: ー
B35: =別紙!B6 -> 令和８年 月 | E35: {=_xlfn.LET(_xlpm.start,5+ROWS($1:1),_xlpm.v,IFERROR(INDEX(別紙!E:E,_xlfn.SEQUENCE(40,1,_xlpm.start,13)),0),_xlpm.s,SUM(_xlpm.v),IF(_xlpm.s=0,"",_xlpm.s))} | L35: {=_xlfn.LET(_xlpm.start,5+ROWS($1:1),_xlpm.v,IFERROR(INDEX(別紙!L:L,_xlfn.SEQUENCE(40,1,_xlpm.start,13)),0),_xlpm.s,SUM(_xlpm.v),IF(_xlpm.s=0,"",_xlpm.s))} | V35: {=_xlfn.LET(_xlpm.start,12+ROWS(#REF!),_xlpm.v,IFERROR(INDEX(別紙!E:E,_xlfn.SEQUENCE(40,1,_xlpm.start,13)),0),_xlpm.s,SUM(_xlpm.v),IF(_xlpm.s=0,"",_xlpm.s))}
B36: =別紙!B7 -> 令和８年 月 | E36: {=_xlfn.LET(_xlpm.start,5+ROWS($1:2),_xlpm.v,IFERROR(INDEX(別紙!E:E,_xlfn.SEQUENCE(40,1,_xlpm.start,13)),0),_xlpm.s,SUM(_xlpm.v),IF(_xlpm.s=0,"",_xlpm.s))} | L36: {=_xlfn.LET(_xlpm.start,5+ROWS($1:2),_xlpm.v,IFERROR(INDEX(別紙!L:L,_xlfn.SEQUENCE(40,1,_xlpm.start,13)),0),_xlpm.s,SUM(_xlpm.v),IF(_xlpm.s=0,"",_xlpm.s))} | V36: {=_xlfn.LET(_xlpm.start,12+ROWS(#REF!),_xlpm.v,IFERROR(INDEX(別紙!E:E,_xlfn.SEQUENCE(40,1,_xlpm.start,13)),0),_xlpm.s,SUM(_xlpm.v),IF(_xlpm.s=0,"",_xlpm.s))}
B37: =別紙!B8 -> 令和８年 月 | E37: {=_xlfn.LET(_xlpm.start,5+ROWS($1:3),_xlpm.v,IFERROR(INDEX(別紙!E:E,_xlfn.SEQUENCE(40,1,_xlpm.start,13)),0),_xlpm.s,SUM(_xlpm.v),IF(_xlpm.s=0,"",_xlpm.s))} | L37: {=_xlfn.LET(_xlpm.start,5+ROWS($1:3),_xlpm.v,IFERROR(INDEX(別紙!L:L,_xlfn.SEQUENCE(40,1,_xlpm.start,13)),0),_xlpm.s,SUM(_xlpm.v),IF(_xlpm.s=0,"",_xlpm.s))}
B38: =別紙!B9 -> 令和８年 月 | E38: {=_xlfn.LET(_xlpm.start,5+ROWS($1:4),_xlpm.v,IFERROR(INDEX(別紙!E:E,_xlfn.SEQUENCE(40,1,_xlpm.start,13)),0),_xlpm.s,SUM(_xlpm.v),IF(_xlpm.s=0,"",_xlpm.s))} | L38: {=_xlfn.LET(_xlpm.start,5+ROWS($1:4),_xlpm.v,IFERROR(INDEX(別紙!L:L,_xlfn.SEQUENCE(40,1,_xlpm.start,13)),0),_xlpm.s,SUM(_xlpm.v),IF(_xlpm.s=0,"",_xlpm.s))}
B39: =別紙!B10 -> 令和８年 月 | E39: {=_xlfn.LET(_xlpm.start,5+ROWS($1:5),_xlpm.v,IFERROR(INDEX(別紙!E:E,_xlfn.SEQUENCE(40,1,_xlpm.start,13)),0),_xlpm.s,SUM(_xlpm.v),IF(_xlpm.s=0,"",_xlpm.s))} | L39: {=_xlfn.LET(_xlpm.start,5+ROWS($1:5),_xlpm.v,IFERROR(INDEX(別紙!L:L,_xlfn.SEQUENCE(40,1,_xlpm.start,13)),0),_xlpm.s,SUM(_xlpm.v),IF(_xlpm.s=0,"",_xlpm.s))}
B40: =別紙!B11 -> 令和８年 月 | E40: {=_xlfn.LET(_xlpm.start,5+ROWS($1:6),_xlpm.v,IFERROR(INDEX(別紙!E:E,_xlfn.SEQUENCE(40,1,_xlpm.start,13)),0),_xlpm.s,SUM(_xlpm.v),IF(_xlpm.s=0,"",_xlpm.s))} | L40: {=_xlfn.LET(_xlpm.start,5+ROWS($1:6),_xlpm.v,IFERROR(INDEX(別紙!L:L,_xlfn.SEQUENCE(40,1,_xlpm.start,13)),0),_xlpm.s,SUM(_xlpm.v),IF(_xlpm.s=0,"",_xlpm.s))}
B41: 合計 | E41: =IF(COUNT(E35:K40)>0, SUM(E35:K40), "") | L41: =IF(COUNT(L35:R40)>0, SUM(L35:R40), "")
B45: （燃料費） 申請額・請求額（水素重量合計×補助単価） | V45: {=_xlfn.LET(_xlpm.start,12+ROWS($1:1),_xlpm.v,IFERROR(INDEX(別紙!E:E,_xlfn.SEQUENCE(40,1,_xlpm.start,13)),0),_xlpm.s,SUM(_xlpm.v),IF(_xlpm.s=0,"",_xlpm.s))} | Z45: 円
V46: ※補助金額は1円未満切り捨て
B47: （高速道路利用費） 申請額・請求額（有料道路利用費×補助率） | V47: {=_xlfn.LET(_xlpm.start,12+ROWS($1:1),_xlpm.v,IFERROR(INDEX(別紙!L:L,_xlfn.SEQUENCE(40,1,_xlpm.start,13)),0),_xlpm.s,SUM(_xlpm.v),IF(_xlpm.s=0,"",_xlpm.s))} | Z47: 円
V48: ※補助金額は1円未満切り捨て
B49: （合計） 申請額・請求額 | V49: =IF(COUNT(V45,V47)>0, IFERROR(VALUE(V45),0)+IFERROR(VALUE(V47),0), "") | Z49: 円

Sheet 別紙
B1: 別紙
A2: 燃料電池商用車一覧
B3: 車種 | V3: 燃料費補助単価 | W3: =IF(E3=AZ4,BA4,IF(E3=AZ5,BA5,IF(E3=AZ6,BA6,IF(E3=AZ7,BA7,"")))) | BA3: 燃料費補助単価 | BD3: 有料道路補助率
B4: 車両番号 | V4: 高速道路利用費補助率 | W4: =IF(E3=AZ4,BD4,IF(E3=AZ5,BD5,IF(E3=AZ6,BD6,IF(E3=AZ7,BD7,"")))) | AE4: 車両番号 | AH4: =IF(E4="","",E4) | AZ4: 小型トラック | BA4: 476 | BC4: 小型トラック | BD4: 0.5
B5: 該当月 | E5: 燃料電池商用車に充填を受けた 水素重量(kg) | L5: 燃料電池トラックの 有料道路利用費(円)※ | AE5: 該当月 | AH5: 燃料電池トラックの有料道路利用費(円) | AZ5: 大型トラック | BA5: 476 | BC5: 大型トラック | BD5: 0.5
B6: 令和８年 月 | L6: =IF(AH6="","",ROUND(AH6/1.1,0)) | AE6: =B6 -> 令和８年 月 | AZ6: バス | BA6: 476 | BC6: バス | BD6: ー
B7: 令和８年 月 | L7: =IF(AH7="","",ROUND(AH7/1.1,0)) | AE7: =B7 -> 令和８年 月 | AZ7: タクシー | BA7: 576 | BC7: タクシー | BD7: ー
B8: 令和８年 月 | L8: =IF(AH8="","",ROUND(AH8/1.1,0)) | AE8: =B8 -> 令和８年 月
B9: 令和８年 月 | L9: =IF(AH9="","",ROUND(AH9/1.1,0)) | AE9: =B9 -> 令和８年 月
B10: 令和８年 月 | L10: =IF(AH10="","",ROUND(AH10/1.1,0)) | S10: 上半期実績（下半期申請時のみ記載） | AE10: =B10 -> 令和８年 月 | BD10: 燃料費上限 | BE10: 有料道路上限
B11: 令和８年 月 | L11: =IF(AH11="","",ROUND(AH11/1.1,0)) | S11: 燃料電池商用車に充填を受けた 水素重量(kg) | Z11: 燃料電池トラックの 有料道路利用費(円)※ | AE11: =B11 -> 令和８年 月 | BC11: 小型トラック | BD11: 1400000 | BE11: 400000
B12: 合計 | E12: =IF(COUNT(E6:K11)>0, SUM(E6:K11), 0) -> 0 | L12: =IF(COUNT(L6:R11)>0, SUM(L6:R11),0) -> 0 | AE12: 合計 | AH12: =IF(COUNT(AH6:AH11)>0, SUM(AH6:AH11), "") | AZ12: 燃料費申請額 | BC12: 大型トラック | BD12: 3700000 | BE12: 2000000
B13: 申請金額 | E13: =IFERROR(ROUNDDOWN(MIN(E12*W3,VLOOKUP(E3,BC11:BD14,2,FALSE)-S13),0),0) -> 0 | L13: =IFERROR(MIN(L12/2,VLOOKUP(E3,BC11:BE14,3,FALSE)-Z13),0) -> 0 | S13: =IF(S12="",0,MIN(IFERROR(ROUNDDOWN(S12*W3,0),0),VLOOKUP(E3,BC11:BD14,2,FALSE))) -> 0 | Z13: =IF(Z12="",0,MIN(ROUNDDOWN(Z12/2, 0),VLOOKUP(E3,BC11:BE14,3,FALSE))) -> 0 | AZ13: =IFERROR(MAX(0, ROUNDDOWN(E12*W3, 0)), 0) -> 0 | BC13: バス | BD13: 3400000
L14: ※税抜き価格を記入すること。 | BC14: タクシー | BD14: 400000
B16: 車種 | V16: 燃料費補助単価 | W16: =IF(E16=AZ17,BA17,IF(E16=AZ18,BA18,IF(E16=AZ19,BA19,IF(E16=AZ20,BA20,"")))) | BA16: 燃料費補助単価 | BD16: 有料道路補助率
B17: 車両番号 | V17: 高速道路利用費補助率 | W17: =IF(E16=AZ17,BD17,IF(E16=AZ18,BD18,IF(E16=AZ19,BD19,IF(E16=AZ20,BD20,"")))) | AE17: 車両番号 | AH17: =IF(E17="","",E17) | AZ17: 小型トラック | BA17: 476 | BC17: 小型トラック | BD17: 0.5
B18: 該当月 | E18: 燃料電池商用車に充填を受けた 水素重量(kg) | L18: 燃料電池トラックの 有料道路利用費(円)※ | AE18: 該当月 | AH18: 燃料電池トラックの有料道路利用費(円) | AZ18: 大型トラック | BA18: 476 | BC18: 大型トラック | BD18: 0.5
B19: 令和８年 月 | L19: =IF(AH19="","",ROUND(AH19/1.1,0)) | AE19: =B19 -> 令和８年 月 | AZ19: バス | BA19: 476 | BC19: バス | BD19: ー
B20: 令和８年 月 | L20: =IF(AH20="","",ROUND(AH20/1.1,0)) | AE20: =B20 -> 令和８年 月 | AZ20: タクシー | BA20: 576 | BC20: タクシー | BD20: ー
B21: 令和８年 月 | L21: =IF(AH21="","",ROUND(AH21/1.1,0)) | AE21: =B21 -> 令和８年 月
B22: 令和８年 月 | L22: =IF(AH22="","",ROUND(AH22/1.1,0)) | AE22: =B22 -> 令和８年 月
B23: 令和８年 月 | L23: =IF(AH23="","",ROUND(AH23/1.1,0)) | S23: 上半期実績（下半期申請時のみ記載） | AE23: =B23 -> 令和８年 月 | BD23: 燃料費上限 | BE23: 有料道路上限
B24: 令和８年 月 | L24: =IF(AH24="","",ROUND(AH24/1.1,0)) | S24: 燃料電池商用車に充填を受けた 水素重量(kg) | Z24: 燃料電池トラックの 有料道路利用費(円)※ | AE24: =B24 -> 令和８年 月 | BC24: 小型トラック | BD24: 1400000 | BE24: 400000
B25: 合計 | E25: =IF(COUNT(E19:K24)>0, SUM(E19:K24), 0) -> 0 | L25: =IF(COUNT(L19:R24)>0, SUM(L19:R24),0) -> 0 | AE25: 合計 | AH25: =IF(COUNT(AH19:AH24)>0, SUM(AH19:AH24), "") | AZ25: 燃料費申請額 | BC25: 大型トラック | BD25: 3700000 | BE25: 2000000
B26: 申請金額 | E26: =IFERROR(ROUNDDOWN(MIN(E25*W16,VLOOKUP(E16,BC24:BD27,2,FALSE)-S26),0),0) -> 0 | L26: =IFERROR(MIN(L25/2,VLOOKUP(E16,BC24:BE27,3,FALSE)-Z26),0) -> 0 | S26: =IF(S25="",0,MIN(IFERROR(ROUNDDOWN(S25*W16,0),0),VLOOKUP(E16,BC24:BD27,2,FALSE))) -> 0 | Z26: =IF(Z25="",0,MIN(ROUNDDOWN(Z25/2, 0),VLOOKUP(E16,BC24:BE27,3,FALSE))) -> 0 | AZ26: =IFERROR(MAX(0, ROUNDDOWN(E25*W16, 0)), 0) -> 0 | BC26: バス | BD26: 3400000
L27: ※税抜き価格を記入すること。 | BC27: タクシー | BD27: 400000
B29: 車種 | V29: 燃料費補助単価 | W29: =IF(E29=AZ30,BA30,IF(E29=AZ31,BA31,IF(E29=AZ32,BA32,IF(E29=AZ33,BA33,"")))) | BA29: 燃料費補助単価 | BD29: 有料道路補助率
B30: 車両番号 | V30: 高速道路利用費補助率 | W30: =IF(E29=AZ30,BD30,IF(E29=AZ31,BD31,IF(E29=AZ32,BD32,IF(E29=AZ33,BD33,"")))) | AE30: 車両番号 | AH30: =IF(E30="","",E30) | AZ30: 小型トラック | BA30: 476 | BC30: 小型トラック | BD30: 0.5
B31: 該当月 | E31: 燃料電池商用車に充填を受けた 水素重量(kg) | L31: 燃料電池トラックの 有料道路利用費(円)※ | AE31: 該当月 | AH31: 燃料電池トラックの有料道路利用費(円) | AZ31: 大型トラック | BA31: 476 | BC31: 大型トラック | BD31: 0.5
B32: 令和８年 月 | L32: =IF(AH32="","",ROUND(AH32/1.1,0)) | AE32: =B32 -> 令和８年 月 | AZ32: バス | BA32: 476 | BC32: バス | BD32: ー
B33: 令和８年 月 | L33: =IF(AH33="","",ROUND(AH33/1.1,0)) | AE33: =B33 -> 令和８年 月 | AZ33: タクシー | BA33: 576 | BC33: タクシー | BD33: ー
B34: 令和８年 月 | L34: =IF(AH34="","",ROUND(AH34/1.1,0)) | AE34: =B34 -> 令和８年 月
B35: 令和８年 月 | L35: =IF(AH35="","",ROUND(AH35/1.1,0)) | AE35: =B35 -> 令和８年 月
B36: 令和８年 月 | L36: =IF(AH36="","",ROUND(AH36/1.1,0)) | S36: 上半期実績（下半期申請時のみ記載） | AE36: =B36 -> 令和８年 月 | BD36: 燃料費上限 | BE36: 有料道路上限
B37: 令和８年 月 | L37: =IF(AH37="","",ROUND(AH37/1.1,0)) | S37: 燃料電池商用車に充填を受けた 水素重量(kg) | Z37: 燃料電池トラックの 有料道路利用費(円)※ | AE37: =B37 -> 令和８年 月 | BC37: 小型トラック | BD37: 1400000 | BE37: 400000
B38: 合計 | E38: =IF(COUNT(E32:K37)>0, SUM(E32:K37), 0) -> 0 | L38: =IF(COUNT(L32:R37)>0, SUM(L32:R37),0) -> 0 | AE38: 合計 | AH38: =IF(COUNT(AH32:AH37)>0, SUM(AH32:AH37), "") | AZ38: 燃料費申請額 | BC38: 大型トラック | BD38: 3700000 | BE38: 2000000
B39: 申請金額 | E39: =IFERROR(ROUNDDOWN(MIN(E38*W29,VLOOKUP(E29,BC37:BD40,2,FALSE)-S39),0),0) -> 0 | L39: =IFERROR(MIN(L38/2,VLOOKUP(E29,BC37:BE40,3,FALSE)-Z39),0) -> 0 | S39: =IF(S38="",0,MIN(IFERROR(ROUNDDOWN(S38*W29,0),0),VLOOKUP(E29,BC37:BD40,2,FALSE))) -> 0 | Z39: =IF(Z38="",0,MIN(ROUNDDOWN(Z38/2, 0),VLOOKUP(E29,BC37:BE40,3,FALSE))) -> 0 | AZ39: =IFERROR(MAX(0, ROUNDDOWN(E38*W29, 0)), 0) -> 0 | BC39: バス | BD39: 3400000
L40: ※税抜き価格を記入すること。 | BC40: タクシー | BD40: 400000
B42: 車種 | V42: 燃料費補助単価 | W42: =IF(E42=AZ43,BA43,IF(E42=AZ44,BA44,IF(E42=AZ45,BA45,IF(E42=AZ46,BA46,"")))) | BA42: 燃料費補助単価 | BD42: 有料道路補助率
B43: 車両番号 | V43: 高速道路利用費補助率 | W43: =IF(E42=AZ43,BD43,IF(E42=AZ44,BD44,IF(E42=AZ45,BD45,IF(E42=AZ46,BD46,"")))) | AE43: 車両番号 | AH43: =IF(E43="","",E43) | AZ43: 小型トラック | BA43: 476 | BC43: 小型トラック | BD43: 0.5
B44: 該当月 | E44: 燃料電池商用車に充填を受けた 水素重量(kg) | L44: 燃料電池トラックの 有料道路利用費(円)※ | AE44: 該当月 | AH44: 燃料電池トラックの有料道路利用費(円) | AZ44: 大型トラック | BA44: 476 | BC44: 大型トラック | BD44: 0.5
B45: 令和８年 月 | L45: =IF(AH45="","",ROUND(AH45/1.1,0)) | AE45: =B45 -> 令和８年 月 | AZ45: バス | BA45: 476 | BC45: バス | BD45: ー
B46: 令和８年 月 | L46: =IF(AH46="","",ROUND(AH46/1.1,0)) | AE46: =B46 -> 令和８年 月 | AZ46: タクシー | BA46: 576 | BC46: タクシー | BD46: ー
B47: 令和８年 月 | L47: =IF(AH47="","",ROUND(AH47/1.1,0)) | AE47: =B47 -> 令和８年 月
B48: 令和８年 月 | L48: =IF(AH48="","",ROUND(AH48/1.1,0)) | AE48: =B48 -> 令和８年 月
B49: 令和８年 月 | L49: =IF(AH49="","",ROUND(AH49/1.1,0)) | S49: 上半期実績（下半期申請時のみ記載） | AE49: =B49 -> 令和８年 月 | BD49: 燃料費上限 | BE49: 有料道路上限
B50: 令和８年 月 | L50: =IF(AH50="","",ROUND(AH50/1.1,0)) | S50: 燃料電池商用車に充填を受けた 水素重量(kg) | Z50: 燃料電池トラックの 有料道路利用費(円)※ | AE50: =B50 -> 令和８年 月 | BC50: 小型トラック | BD50: 1400000 | BE50: 400000
B51: 合計 | E51: =IF(COUNT(E45:K50)>0, SUM(E45:K50), 0) -> 0 | L51: =IF(COUNT(L45:R50)>0, SUM(L45:R50),0) -> 0 | AE51: 合計 | AH51: =IF(COUNT(AH45:AH50)>0, SUM(AH45:AH50), "") | AZ51: 燃料費申請額 | BC51: 大型トラック | BD51: 3700000 | BE51: 2000000
B52: 申請金額 | E52: =IFERROR(ROUNDDOWN(MIN(E51*W42,VLOOKUP(E42,BC50:BD53,2,FALSE)-S52),0),0) -> 0 | L52: =IFERROR(MIN(L51/2,VLOOKUP(E42,BC50:BE53,3,FALSE)-Z52),0) -> 0 | S52: =IF(S51="",0,MIN(IFERROR(ROUNDDOWN(S51*W42,0),0),VLOOKUP(E42,BC50:BD53,2,FALSE))) -> 0 | Z52: =IF(Z51="",0,MIN(ROUNDDOWN(Z51/2, 0),VLOOKUP(E42,BC50:BE53,3,FALSE))) -> 0 | AZ52: =IFERROR(MAX(0, ROUNDDOWN(E51*W42, 0)), 0) -> 0 | BC52: バス | BD52: 3400000
L53: ※税抜き価格を記入すること。 | BC53: タクシー | BD53: 400000
B55: 車種 | V55: 燃料費補助単価 | W55: =IF(E55=AZ56,BA56,IF(E55=AZ57,BA57,IF(E55=AZ58,BA58,IF(E55=AZ59,BA59,"")))) | BA55: 燃料費補助単価 | BD55: 有料道路補助率
B56: 車両番号 | V56: 高速道路利用費補助率 | W56: =IF(E55=AZ56,BD56,IF(E55=AZ57,BD57,IF(E55=AZ58,BD58,IF(E55=AZ59,BD59,"")))) | AE56: 車両番号 | AH56: =IF(E56="","",E56) | AZ56: 小型トラック | BA56: 476 | BC56: 小型トラック | BD56: 0.5
B57: 該当月 | E57: 燃料電池商用車に充填を受けた 水素重量(kg) | L57: 燃料電池トラックの 有料道路利用費(円)※ | AE57: 該当月 | AH57: 燃料電池トラックの有料道路利用費(円) | AZ57: 大型トラック | BA57: 476 | BC57: 大型トラック | BD57: 0.5
B58: 令和８年 月 | L58: =IF(AH58="","",ROUND(AH58/1.1,0)) | AE58: =B58 -> 令和８年 月 | AZ58: バス | BA58: 476 | BC58: バス | BD58: ー
B59: 令和８年 月 | L59: =IF(AH59="","",ROUND(AH59/1.1,0)) | AE59: =B59 -> 令和８年 月 | AZ59: タクシー | BA59: 576 | BC59: タクシー | BD59: ー
B60: 令和８年 月 | L60: =IF(AH60="","",ROUND(AH60/1.1,0)) | AE60: =B60 -> 令和８年 月
B61: 令和８年 月 | L61: =IF(AH61="","",ROUND(AH61/1.1,0)) | AE61: =B61 -> 令和８年 月
B62: 令和８年 月 | L62: =IF(AH62="","",ROUND(AH62/1.1,0)) | S62: 上半期実績（下半期申請時のみ記載） | AE62: =B62 -> 令和８年 月 | BD62: 燃料費上限 | BE62: 有料道路上限
B63: 令和８年 月 | L63: =IF(AH63="","",ROUND(AH63/1.1,0)) | S63: 燃料電池商用車に充填を受けた 水素重量(kg) | Z63: 燃料電池トラックの 有料道路利用費(円)※ | AE63: =B63 -> 令和８年 月 | BC63: 小型トラック | BD63: 1400000 | BE63: 400000
B64: 合計 | E64: =IF(COUNT(E58:K63)>0, SUM(E58:K63), 0) -> 0 | L64: =IF(COUNT(L58:R63)>0, SUM(L58:R63),0) -> 0 | AE64: 合計 | AH64: =IF(COUNT(AH58:AH63)>0, SUM(AH58:AH63), "") | AZ64: 燃料費申請額 | BC64: 大型トラック | BD64: 3700000 | BE64: 2000000
B65: 申請金額 | E65: =IFERROR(ROUNDDOWN(MIN(E64*W55,VLOOKUP(E55,BC63:BD66,2,FALSE)-S65),0),0) -> 0 | L65: =IFERROR(MIN(L64/2,VLOOKUP(E55,BC63:BE66,3,FALSE)-Z65),0) -> 0 | S65: =IF(S64="",0,MIN(IFERROR(ROUNDDOWN(S64*W55,0),0),VLOOKUP(E55,BC63:BD66,2,FALSE))) -> 0 | Z65: =IF(Z64="",0,MIN(ROUNDDOWN(Z64/2, 0),VLOOKUP(E55,BC63:BE66,3,FALSE))) -> 0 | AZ65: =IFERROR(MAX(0, ROUNDDOWN(E64*W55, 0)), 0) -> 0 | BC65: バス | BD65: 3400000
L66: ※税抜き価格を記入すること。 | BC66: タクシー | BD66: 400000
B68: 車種 | V68: 燃料費補助単価 | W68: =IF(E68=AZ69,BA69,IF(E68=AZ70,BA70,IF(E68=AZ71,BA71,IF(E68=AZ72,BA72,"")))) | BA68: 燃料費補助単価 | BD68: 有料道路補助率
B69: 車両番号 | V69: 高速道路利用費補助率 | W69: =IF(E68=AZ69,BD69,IF(E68=AZ70,BD70,IF(E68=AZ71,BD71,IF(E68=AZ72,BD72,"")))) | AE69: 車両番号 | AH69: =IF(E69="","",E69) | AZ69: 小型トラック | BA69: 476 | BC69: 小型トラック | BD69: 0.5
B70: 該当月 | E70: 燃料電池商用車に充填を受けた 水素重量(kg) | L70: 燃料電池トラックの 有料道路利用費(円)※ | AE70: 該当月 | AH70: 燃料電池トラックの有料道路利用費(円) | AZ70: 大型トラック | BA70: 476 | BC70: 大型トラック | BD70: 0.5
B71: 令和８年 月 | L71: =IF(AH71="","",ROUND(AH71/1.1,0)) | AE71: =B71 -> 令和８年 月 | AZ71: バス | BA71: 476 | BC71: バス | BD71: ー
B72: 令和８年 月 | L72: =IF(AH72="","",ROUND(AH72/1.1,0)) | AE72: =B72 -> 令和８年 月 | AZ72: タクシー | BA72: 576 | BC72: タクシー | BD72: ー
B73: 令和８年 月 | L73: =IF(AH73="","",ROUND(AH73/1.1,0)) | AE73: =B73 -> 令和８年 月
B74: 令和８年 月 | L74: =IF(AH74="","",ROUND(AH74/1.1,0)) | AE74: =B74 -> 令和８年 月
B75: 令和８年 月 | L75: =IF(AH75="","",ROUND(AH75/1.1,0)) | S75: 上半期実績（下半期申請時のみ記載） | AE75: =B75 -> 令和８年 月 | BD75: 燃料費上限 | BE75: 有料道路上限
B76: 令和８年 月 | L76: =IF(AH76="","",ROUND(AH76/1.1,0)) | S76: 燃料電池商用車に充填を受けた 水素重量(kg) | Z76: 燃料電池トラックの 有料道路利用費(円)※ | AE76: =B76 -> 令和８年 月 | BC76: 小型トラック | BD76: 1400000 | BE76: 400000
B77: 合計 | E77: =IF(COUNT(E71:K76)>0, SUM(E71:K76), 0) -> 0 | L77: =IF(COUNT(L71:R76)>0, SUM(L71:R76),0) -> 0 | AE77: 合計 | AH77: =IF(COUNT(AH71:AH76)>0, SUM(AH71:AH76), "") | AZ77: 燃料費申請額 | BC77: 大型トラック | BD77: 3700000 | BE77: 2000000
B78: 申請金額 | E78: =IFERROR(ROUNDDOWN(MIN(E77*W68,VLOOKUP(E68,BC76:BD79,2,FALSE)-S78),0),0) -> 0 | L78: =IFERROR(MIN(L77/2,VLOOKUP(E68,BC76:BE79,3,FALSE)-Z78),0) -> 0 | S78: =IF(S77="",0,MIN(IFERROR(ROUNDDOWN(S77*W68,0),0),VLOOKUP(E68,BC76:BD79,2,FALSE))) -> 0 | Z78: =IF(Z77="",0,MIN(ROUNDDOWN(Z77/2, 0),VLOOKUP(E68,BC76:BE79,3,FALSE))) -> 0 | AZ78: =IFERROR(MAX(0, ROUNDDOWN(E77*W68, 0)), 0) -> 0 | BC78: バス | BD78: 3400000
L79: ※税抜き価格を記入すること。 | BC79: タクシー | BD79: 400000
B81: 車種 | V81: 燃料費補助単価 | W81: =IF(E81=AZ82,BA82,IF(E81=AZ83,BA83,IF(E81=AZ84,BA84,IF(E81=AZ85,BA85,"")))) | BA81: 燃料費補助単価 | BD81: 有料道路補助率
B82: 車両番号 | V82: 高速道路利用費補助率 | W82: =IF(E81=AZ82,BD82,IF(E81=AZ83,BD83,IF(E81=AZ84,BD84,IF(E81=AZ85,BD85,"")))) | AE82: 車両番号 | AH82: =IF(E82="","",E82) | AZ82: 小型トラック | BA82: 476 | BC82: 小型トラック | BD82: 0.5
B83: 該当月 | E83: 燃料電池商用車に充填を受けた 水素重量(kg) | L83: 燃料電池トラックの 有料道路利用費(円)※ | AE83: 該当月 | AH83: 燃料電池トラックの有料道路利用費(円) | AZ83: 大型トラック | BA83: 476 | BC83: 大型トラック | BD83: 0.5
B84: 令和８年 月 | L84: =IF(AH84="","",ROUND(AH84/1.1,0)) | AE84: =B84 -> 令和８年 月 | AZ84: バス | BA84: 476 | BC84: バス | BD84: ー
B85: 令和８年 月 | L85: =IF(AH85="","",ROUND(AH85/1.1,0)) | AE85: =B85 -> 令和８年 月 | AZ85: タクシー | BA85: 576 | BC85: タクシー | BD85: ー
B86: 令和８年 月 | L86: =IF(AH86="","",ROUND(AH86/1.1,0)) | AE86: =B86 -> 令和８年 月
B87: 令和８年 月 | L87: =IF(AH87="","",ROUND(AH87/1.1,0)) | AE87: =B87 -> 令和８年 月
B88: 令和８年 月 | L88: =IF(AH88="","",ROUND(AH88/1.1,0)) | S88: 上半期実績（下半期申請時のみ記載） | AE88: =B88 -> 令和８年 月 | BD88: 燃料費上限 | BE88: 有料道路上限
B89: 令和８年 月 | L89: =IF(AH89="","",ROUND(AH89/1.1,0)) | S89: 燃料電池商用車に充填を受けた 水素重量(kg) | Z89: 燃料電池トラックの 有料道路利用費(円)※ | AE89: =B89 -> 令和８年 月 | BC89: 小型トラック | BD89: 1400000 | BE89: 400000
B90: 合計 | E90: =IF(COUNT(E84:K89)>0, SUM(E84:K89), 0) -> 0 | L90: =IF(COUNT(L84:R89)>0, SUM(L84:R89),0) -> 0 | AE90: 合計 | AH90: =IF(COUNT(AH84:AH89)>0, SUM(AH84:AH89), "") | AZ90: 燃料費申請額 | BC90: 大型トラック | BD90: 3700000 | BE90: 2000000
B91: 申請金額 | E91: =IFERROR(ROUNDDOWN(MIN(E90*W81,VLOOKUP(E81,BC89:BD92,2,FALSE)-S91),0),0) -> 0 | L91: =IFERROR(MIN(L90/2,VLOOKUP(E81,BC89:BE92,3,FALSE)-Z91),0) -> 0 | S91: =IF(S90="",0,MIN(IFERROR(ROUNDDOWN(S90*W81,0),0),VLOOKUP(E81,BC89:BD92,2,FALSE))) -> 0 | Z91: =IF(Z90="",0,MIN(ROUNDDOWN(Z90/2, 0),VLOOKUP(E81,BC89:BE92,3,FALSE))) -> 0 | AZ91: =IFERROR(MAX(0, ROUNDDOWN(E90*W81, 0)), 0) -> 0 | BC91: バス | BD91: 3400000
L92: ※税抜き価格を記入すること。 | BC92: タクシー | BD92: 400000
B94: 車種 | V94: 燃料費補助単価 | W94: =IF(E94=AZ95,BA95,IF(E94=AZ96,BA96,IF(E94=AZ97,BA97,IF(E94=AZ98,BA98,"")))) | BA94: 燃料費補助単価 | BD94: 有料道路補助率
B95: 車両番号 | V95: 高速道路利用費補助率 | W95: =IF(E94=AZ95,BD95,IF(E94=AZ96,BD96,IF(E94=AZ97,BD97,IF(E94=AZ98,BD98,"")))) | AE95: 車両番号 | AH95: =IF(E95="","",E95) | AZ95: 小型トラック | BA95: 476 | BC95: 小型トラック | BD95: 0.5
B96: 該当月 | E96: 燃料電池商用車に充填を受けた 水素重量(kg) | L96: 燃料電池トラックの 有料道路利用費(円)※ | AE96: 該当月 | AH96: 燃料電池トラックの有料道路利用費(円) | AZ96: 大型トラック | BA96: 476 | BC96: 大型トラック | BD96: 0.5
B97: 令和８年 月 | L97: =IF(AH97="","",ROUND(AH97/1.1,0)) | AE97: =B97 -> 令和８年 月 | AZ97: バス | BA97: 476 | BC97: バス | BD97: ー
B98: 令和８年 月 | L98: =IF(AH98="","",ROUND(AH98/1.1,0)) | AE98: =B98 -> 令和８年 月 | AZ98: タクシー | BA98: 576 | BC98: タクシー | BD98: ー
B99: 令和８年 月 | L99: =IF(AH99="","",ROUND(AH99/1.1,0)) | AE99: =B99 -> 令和８年 月
B100: 令和８年 月 | L100: =IF(AH100="","",ROUND(AH100/1.1,0)) | AE100: =B100 -> 令和８年 月
B101: 令和８年 月 | L101: =IF(AH101="","",ROUND(AH101/1.1,0)) | S101: 上半期実績（下半期申請時のみ記載） | AE101: =B101 -> 令和８年 月 | BD101: 燃料費上限 | BE101: 有料道路上限
B102: 令和８年 月 | L102: =IF(AH102="","",ROUND(AH102/1.1,0)) | S102: 燃料電池商用車に充填を受けた 水素重量(kg) | Z102: 燃料電池トラックの 有料道路利用費(円)※ | AE102: =B102 -> 令和８年 月 | BC102: 小型トラック | BD102: 1400000 | BE102: 400000
B103: 合計 | E103: =IF(COUNT(E97:K102)>0, SUM(E97:K102), 0) -> 0 | L103: =IF(COUNT(L97:R102)>0, SUM(L97:R102),0) -> 0 | AE103: 合計 | AH103: =IF(COUNT(AH97:AH102)>0, SUM(AH97:AH102), "") | AZ103: 燃料費申請額 | BC103: 大型トラック | BD103: 3700000 | BE103: 2000000
B104: 申請金額 | E104: =IFERROR(ROUNDDOWN(MIN(E103*W94,VLOOKUP(E94,BC102:BD105,2,FALSE)-S104),0),0) -> 0 | L104: =IFERROR(MIN(L103/2,VLOOKUP(E94,BC102:BE105,3,FALSE)-Z104),0) -> 0 | S104: =IF(S103="",0,MIN(IFERROR(ROUNDDOWN(S103*W94,0),0),VLOOKUP(E94,BC102:BD105,2,FALSE))) -> 0 | Z104: =IF(Z103="",0,MIN(ROUNDDOWN(Z103/2, 0),VLOOKUP(E94,BC102:BE105,3,FALSE))) -> 0 | AZ104: =IFERROR(MAX(0, ROUNDDOWN(E103*W94, 0)), 0) -> 0 | BC104: バス | BD104: 3400000
L105: ※税抜き価格を記入すること。 | BC105: タクシー | BD105: 400000
B107: 車種 | V107: 燃料費補助単価 | W107: =IF(E107=AZ108,BA108,IF(E107=AZ109,BA109,IF(E107=AZ110,BA110,IF(E107=AZ111,BA111,"")))) | BA107: 燃料費補助単価 | BD107: 有料道路補助率
B108: 車両番号 | V108: 高速道路利用費補助率 | W108: =IF(E107=AZ108,BD108,IF(E107=AZ109,BD109,IF(E107=AZ110,BD110,IF(E107=AZ111,BD111,"")))) | AE108: 車両番号 | AH108: =IF(E108="","",E108) | AZ108: 小型トラック | BA108: 476 | BC108: 小型トラック | BD108: 0.5
...
