Workbook

Sheet 申請書兼請求書・様式1
B1: 様式第１（第７条関係）
A2: 燃料電池商用車燃料費等補助金交付申請書兼請求書
S4: 申請日 年 月 日
B5: 愛知県知事殿
B7: 燃料電池商用車燃料費等補助金の交付を受けたいので、以下のとおり申請します。
B8: 交付申請書の内容に一切の虚偽がないことを誓約します。
B9: 交付申請者は交付要綱第４条第１項各号のいずれにも該当することを誓約します。
B10: 交付申請者は交付要綱第４条第２項各号のいずれにも該当しないことを誓約します。
B11: その他、交付要綱について全て確認し、了承しています。
B12: 交付要綱に違反している場合、交付決定の取り消しを受けること又は補助金を返還することに異議を申し立てません。
N14: 記
B15: 1.申請者情報
B16: フリガナ
B17: 氏名又は 名称
B18: 住所又は 所在地 | D18: 〒 －
B19: 代表者役職・氏名 | D19: 役職 | P19: フリガナ
P20: 氏名
B21: 郵便物の希望送付先住所 | I21: 上記住所と同じ
D22: 〒 | E22: -
B23: 担当者名・電話番号 | D23: 担当者名 | O23: 電話番号 | R23: － －
B24: 担当者メールアドレス
B25: 2.振込先口座
B26: 金融機関コード | H26: 金融機関名称 | V26: 銀行 農協 金庫 組合
B27: 支店コード | H27: 支店名称 | V27: 本店 支店 支所 出張所
B28: 口座種別 | D28: 普通 当座
B29: 口座番号
B30: 口座名義(ｶﾅ)
B32: 3.申請額・請求額
AJ33: バス | AK33: 476 | AM33: バス | AN33: ー
B34: 該当月 | E34: 燃料電池商用車に充填を受けた 水素重量(kg) | L34: 燃料電池トラックの 有料道路利用費(円)※ | V34: {=_xlfn.LET(_xlpm.start,12+ROWS(#REF!),_xlpm.v,IFERROR(INDEX(別紙!E:E,_xlfn.SEQUENCE(40,1,_xlpm.start,13)),0),_xlpm.s,SUM(_xlpm.v),IF(_xlpm.s=0,"",_xlpm.s))} | AJ34: タクシー | AK34: 576 | AM34: タクシー | AN34: ー
B35: =別紙!B6 -> 令和８年 月 | E35: {=_xlfn.LET(_xlpm.start,5+ROWS($1:1),_xlpm.v,IFERROR(INDEX(別紙!E:E,_xlfn.SEQUENCE(40,1,_xlpm.start,13)),0),_xlpm.s,SUM(_xlpm.v),IF(_xlpm.s=0,"",_xlpm.s))} | L35: {=_xlfn.LET(_xlpm.start,5+ROWS($1:1),_xlpm.v,IFERROR(INDEX(別紙!L:L,_xlfn.SEQUENCE(40,1,_xlpm.start,13)),0),_xlpm.s,SUM(_xlpm.v),IF(_xlpm.s=0,"",_xlpm.s))} | V35: {=_xlfn.LET(_xlpm.start,12+ROWS(#REF!),_xlpm.v,IFERROR(INDEX(別紙!E:E,_xlfn.SEQUENCE(40,1,_xlpm.start,13)),0),_xlpm.s,SUM(_xlpm.v),IF(_xlpm.s=0,"",_xlpm.s))}
B36: =別紙!B7 -> 令和８年 月 | E36: {=_xlfn.LET(_xlpm.start,5+ROWS($1:2),_xlpm.v,IFERROR(INDEX(別紙!E:E,_xlfn.SEQUENCE(40,1,_xlpm.start,13)),0),_xlpm.s,SUM(_xlpm.v),IF(_xlpm.s=0,"",_xlpm.s))} | L36: {=_xlfn.LET(_xlpm.start,5+ROWS($1:2),_xlpm.v,IFERROR(INDEX(別紙!L:L,_xlfn.SEQUENCE(40,1,_xlpm.start,13)),0),_xlpm.s,SUM(_xlpm.v),IF(_xlpm.s=0,"",_xlpm.s))} | V36: {=_xlfn.LET(_xlpm.start,12+ROWS(#REF!),_xlpm.v,IFERROR(INDEX(別紙!E:E,_xlfn.SEQUENCE(40,1,_xlpm.start,13)),0),_xlpm.s,SUM(_xlpm.v),IF(_xlpm.s=0,"",_xlpm.s))}
B37: =別紙!B8 -> 令和８年 月 | E37: {=_xlfn.LET(_xlpm.start,5+ROWS($1:3),_xlpm.v,IFERROR(INDEX(別紙!E:E,_xlfn.SEQUENCE(40,1,_xlpm.start,13)),0),_xlpm.s,SUM(_xlpm.v),IF(_xlpm.s=0,"",_xlpm.s))} | L37: {=_xlfn.LET(_xlpm.start,5+ROWS($1:3),_xlpm.v,IFERROR(INDEX(別紙!L:L,_xlfn.SEQUENCE(40,1,_xlpm.start,13)),0),_xlpm.s,SUM(_xlpm.v),IF(_xlpm.s=0,"",_xlpm.s))}
B38: =別紙!B9 -> 令和８年 月 | E38: {=_xlfn.LET(_xlpm.start,5+ROWS($1:4),_xlpm.v,IFERROR(INDEX(別紙!E:E,_xlfn.SEQUENCE(40,1,_xlpm.start,13)),0),_xlpm.s,SUM(_xlpm.v),IF(_xlpm.s=0,"",_xlpm.s))} | L38: {=_xlfn.LET(_xlpm.start,5+ROWS($1:4),_xlpm.v,IFERROR(INDEX(別紙!L:L,_xlfn.SEQUENCE(40,1,_xlpm.start,13)),0),_xlpm.s,SUM(_xlpm.v),IF(_xlpm.s=0,"",_xlpm.s))}
B39: =別紙!B10 -> 令和８年 月 | E39: {=_xlfn.LET(_xlpm.start,5+ROWS($1:5),_xlpm.v,IFERROR(INDEX(別紙!E:E,_xlfn.SEQUENCE(40,1,_xlpm.start,13)),0),_xlpm.s,SUM(_xlpm.v),IF(_xlpm.s=0,"",_xlpm.s))} | L39: {=_xlfn.LET(_xlpm.start,5+ROWS($1:5),_xlpm.v,IFERROR(INDEX(別紙!L:L,_xlfn.SEQUENCE(40,1,_xlpm.start,13)),0),_xlpm.s,SUM(_xlpm.v),IF(_xlpm.s=0,"",_xlpm.s))}
B40: =別紙!B11 -> 令和８年 月 | E40: {=_xlfn.LET(_xlpm.start,5+ROWS($1:6),_xlpm.v,IFERROR(INDEX(別紙!E:E,_xlfn.SEQUENCE(40,1,_xlpm.start,13)),0),_xlpm.s,SUM(_xlpm.v),IF(_xlpm.s=0,"",_xlpm.s))} | L40: {=_xlfn.LET(_xlpm.start,5+ROWS($1:6),_xlpm.v,IFERROR(INDEX(別紙!L:L,_xlfn.SEQUENCE(40,1,_xlpm.start,13)),0),_xlpm.s,SUM(_xlpm.v),IF(_xlpm.s=0,"",_xlpm.s))}
B41: 合計 | E41: =IF(COUNT(E35:K40)>0, SUM(E35:K40), "") | L41: =IF(COUNT(L35:R40)>0, SUM(L35:R40), "")
B45: （燃料費） 申請額・請求額（水素重量合計×補助単価） | V45: {=_xlfn.LET(_xlpm.start,12+ROWS($1:1),_xlpm.v,IFERROR(INDEX(別紙!E:E,_xlfn.SEQUENCE(40,1,_xlpm.start,13)),0),_xlpm.s,SUM(_xlpm.v),IF(_xlpm.s=0,"",_xlpm.s))} | Z45: 円
V46: ※補助金額は1円未満切り捨て
B47: （高速道路利用費） 申請額・請求額（有料道路利用費×補助率） | V47: {=_xlfn.LET(_xlpm.start,12+ROWS($1:1),_xlpm.v,IFERROR(INDEX(別紙!L:L,_xlfn.SEQUENCE(40,1,_xlpm.start,13)),0),_xlpm.s,SUM(_xlpm.v),IF(_xlpm.s=0,"",_xlpm.s))} | Z47: 円
...

Sheet 別紙
B1: 別紙
A2: 燃料電池商用車一覧
B3: 車種 | V3: 燃料費補助単価 | W3: =IF(E3=AZ4,BA4,IF(E3=AZ5,BA5,IF(E3=AZ6,BA6,IF(E3=AZ7,BA7,"")))) | BA3: 燃料費補助単価 | BD3: 有料道路補助率
B4: 車両番号 | V4: 高速道路利用費補助率 | W4: =IF(E3=AZ4,BD4,IF(E3=AZ5,BD5,IF(E3=AZ6,BD6,IF(E3=AZ7,BD7,"")))) | AE4: 車両番号 | AH4: =IF(E4="","",E4) | AZ4: 小型トラック | BA4: 476 | BC4: 小型トラック | BD4: 0.5
B5: 該当月 | E5: 燃料電池商用車に充填を受けた 水素重量(kg) | L5: 燃料電池トラックの 有料道路利用費(円)※ | AE5: 該当月 | AH5: 燃料電池トラックの有料道路利用費(円) | AZ5: 大型トラック | BA5: 476 | BC5: 大型トラック | BD5: 0.5
B6: 令和８年 月 | L6: =IF(AH6="","",ROUND(AH6/1.1,0)) | AE6: =B6 -> 令和８年 月 | AZ6: バス | BA6: 476 | BC6: バス | BD6: ー
B7: 令和８年 月 | L7: =IF(AH7="","",ROUND(AH7/1.1,0)) | AE7: =B7 -> 令和８年 月 | AZ7: タクシー | BA7: 576 | BC7: タクシー | BD7: ー
B8: 令和８年 月 | L8: =IF(AH8="","",ROUND(AH8/1.1,0)) | AE8: =B8 -> 令和８年 月
B9: 令和８年 月 | L9: =IF(AH9="","",ROUND(AH9/1.1,0)) | AE9: =B9 -> 令和８年 月
B10: 令和８年 月 | L10: =IF(AH10="","",ROUND(AH10/1.1,0)) | S10: 上半期実績（下半期申請時のみ記載） | AE10: =B10 -> 令和８年 月 | BD10: 燃料費上限 | BE10: 有料道路上限
B11: 令和８年 月 | L11: =IF(AH11="","",ROUND(AH11/1.1,0)) | S11: 燃料電池商用車に充填を受けた 水素重量(kg) | Z11: 燃料電池トラックの 有料道路利用費(円)※ | AE11: =B11 -> 令和８年 月 | BC11: 小型トラック | BD11: 1400000 | BE11: 400000
B12: 合計 | E12: =IF(COUNT(E6:K11)>0, SUM(E6:K11), 0) -> 0 | L12: =IF(COUNT(L6:R11)>0, SUM(L6:R11),0) -> 0 | AE12: 合計 | AH12: =IF(COUNT(AH6:AH11)>0, SUM(AH6:AH11), "") | AZ12: 燃料費申請額 | BC12: 大型トラック | BD12: 3700000 | BE12: 2000000
B13: 申請金額 | E13: =IFERROR(ROUNDDOWN(MIN(E12*W3,VLOOKUP(E3,BC11:BD14,2,FALSE)-S13),0),0) -> 0 | L13: =IFERROR(MIN(L12/2,VLOOKUP(E3,BC11:BE14,3,FALSE)-Z13),0) -> 0 | S13: =IF(S12="",0,MIN(IFERROR(ROUNDDOWN(S12*W3,0),0),VLOOKUP(E3,BC11:BD14,2,FALSE))) -> 0 | Z13: =IF(Z12="",0,MIN(ROUNDDOWN(Z12/2, 0),VLOOKUP(E3,BC11:BE14,3,FALSE))) -> 0 | AZ13: =IFERROR(MAX(0, ROUNDDOWN(E12*W3, 0)), 0) -> 0 | BC13: バス | BD13: 3400000
L14: ※税抜き価格を記入すること。 | BC14: タクシー | BD14: 400000
B16: 車種 | V16: 燃料費補助単価 | W16: =IF(E16=AZ17,BA17,IF(E16=AZ18,BA18,IF(E16=AZ19,BA19,IF(E16=AZ20,BA20,"")))) | BA16: 燃料費補助単価 | BD16: 有料道路補助率
B17: 車両番号 | V17: 高速道路利用費補助率 | W17: =IF(E16=AZ17,BD17,IF(E16=AZ18,BD18,IF(E16=AZ19,BD19,IF(E16=AZ20,BD20,"")))) | AE17: 車両番号 | AH17: =IF(E17="","",E17) | AZ17: 小型トラック | BA17: 476 | BC17: 小型トラック | BD17: 0.5
B18: 該当月 | E18: 燃料電池商用車に充填を受けた 水素重量(kg) | L18: 燃料電池トラックの 有料道路利用費(円)※ | AE18: 該当月 | AH18: 燃料電池トラックの有料道路利用費(円) | AZ18: 大型トラック | BA18: 476 | BC18: 大型トラック | BD18: 0.5
B19: 令和８年 月 | L19: =IF(AH19="","",ROUND(AH19/1.1,0)) | AE19: =B19 -> 令和８年 月 | AZ19: バス | BA19: 476 | BC19: バス | BD19: ー
B20: 令和８年 月 | L20: =IF(AH20="","",ROUND(AH20/1.1,0)) | AE20: =B20 -> 令和８年 月 | AZ20: タクシー | BA20: 576 | BC20: タクシー | BD20: ー
B21: 令和８年 月 | L21: =IF(AH21="","",ROUND(AH21/1.1,0)) | AE21: =B21 -> 令和８年 月
B22: 令和８年 月 | L22: =IF(AH22="","",ROUND(AH22/1.1,0)) | AE22: =B22 -> 令和８年 月
B23: 令和８年 月 | L23: =IF(AH23="","",ROUND(AH23/1.1,0)) | S23: 上半期実績（下半期申請時のみ記載） | AE23: =B23 -> 令和８年 月 | BD23: 燃料費上限 | BE23: 有料道路上限
B24: 令和８年 月 | L24: =IF(AH24="","",ROUND(AH24/1.1,0)) | S24: 燃料電池商用車に充填を受けた 水素重量(kg) | Z24: 燃料電池トラックの 有料道路利用費(円)※ | AE24: =B24 -> 令和８年 月 | BC24: 小型トラック | BD24: 1400000 | BE24: 400000
B25: 合計 | E25: =IF(COUNT(E19:K24)>0, SUM(E19:K24), 0) -> 0 | L25: =IF(COUNT(L19:R24)>0, SUM(L19:R24),0) -> 0 | AE25: 合計 | AH25: =IF(COUNT(AH19:AH24)>0, SUM(AH19:AH24), "") | AZ25: 燃料費申請額 | BC25: 大型トラック | BD25: 3700000 | BE25: 2000000
B26: 申請金額 | E26: =IFERROR(ROUNDDOWN(MIN(E25*W16,VLOOKUP(E16,BC24:BD27,2,FALSE)-S26),0),0) -> 0 | L26: =IFERROR(MIN(L25/2,VLOOKUP(E16,BC24:BE27,3,FALSE)-Z26),0) -> 0 | S26: =IF(S25="",0,MIN(IFERROR(ROUNDDOWN(S25*W16,0),0),VLOOKUP(E16,BC24:BD27,2,FALSE))) -> 0 | Z26: =IF(Z25="",0,MIN(ROUNDDOWN(Z25/2, 0),VLOOKUP(E16,BC24:BE27,3,FALSE))) -> 0 | AZ26: =IFERROR(MAX(0, ROUNDDOWN(E25*W16, 0)), 0) -> 0 | BC26: バス | BD26: 3400000
L27: ※税抜き価格を記入すること。 | BC27: タクシー | BD27: 400000
B29: 車種 | V29: 燃料費補助単価 | W29: =IF(E29=AZ30,BA30,IF(E29=AZ31,BA31,IF(E29=AZ32,BA32,IF(E29=AZ33,BA33,"")))) | BA29: 燃料費補助単価 | BD29: 有料道路補助率
B30: 車両番号 | V30: 高速道路利用費補助率 | W30: =IF(E29=AZ30,BD30,IF(E29=AZ31,BD31,IF(E29=AZ32,BD32,IF(E29=AZ33,BD33,"")))) | AE30: 車両番号 | AH30: =IF(E30="","",E30) | AZ30: 小型トラック | BA30: 476 | BC30: 小型トラック | BD30: 0.5
B31: 該当月 | E31: 燃料電池商用車に充填を受けた 水素重量(kg) | L31: 燃料電池トラックの 有料道路利用費(円)※ | AE31: 該当月 | AH31: 燃料電池トラックの有料道路利用費(円) | AZ31: 大型トラック | BA31: 476 | BC31: 大型トラック | BD31: 0.5
B32: 令和８年 月 | L32: =IF(AH32="","",ROUND(AH32/1.1,0)) | AE32: =B32 -> 令和８年 月 | AZ32: バス | BA32: 476 | BC32: バス | BD32: ー
B33: 令和８年 月 | L33: =IF(AH33="","",ROUND(AH33/1.1,0)) | AE33: =B33 -> 令和８年 月 | AZ33: タクシー | BA33: 576 | BC33: タクシー | BD33: ー
B34: 令和８年 月 | L34: =IF(AH34="","",ROUND(AH34/1.1,0)) | AE34: =B34 -> 令和８年 月
B35: 令和８年 月 | L35: =IF(AH35="","",ROUND(AH35/1.1,0)) | AE35: =B35 -> 令和８年 月
B36: 令和８年 月 | L36: =IF(AH36="","",ROUND(AH36/1.1,0)) | S36: 上半期実績（下半期申請時のみ記載） | AE36: =B36 -> 令和８年 月 | BD36: 燃料費上限 | BE36: 有料道路上限
B37: 令和８年 月 | L37: =IF(AH37="","",ROUND(AH37/1.1,0)) | S37: 燃料電池商用車に充填を受けた 水素重量(kg) | Z37: 燃料電池トラックの 有料道路利用費(円)※ | AE37: =B37 -> 令和８年 月 | BC37: 小型トラック | BD37: 1400000 | BE37: 400000
B38: 合計 | E38: =IF(COUNT(E32:K37)>0, SUM(E32:K37), 0) -> 0 | L38: =IF(COUNT(L32:R37)>0, SUM(L32:R37),0) -> 0 | AE38: 合計 | AH38: =IF(COUNT(AH32:AH37)>0, SUM(AH32:AH37), "") | AZ38: 燃料費申請額 | BC38: 大型トラック | BD38: 3700000 | BE38: 2000000
B39: 申請金額 | E39: =IFERROR(ROUNDDOWN(MIN(E38*W29,VLOOKUP(E29,BC37:BD40,2,FALSE)-S39),0),0) -> 0 | L39: =IFERROR(MIN(L38/2,VLOOKUP(E29,BC37:BE40,3,FALSE)-Z39),0) -> 0 | S39: =IF(S38="",0,MIN(IFERROR(ROUNDDOWN(S38*W29,0),0),VLOOKUP(E29,BC37:BD40,2,FALSE))) -> 0 | Z39: =IF(Z38="",0,MIN(ROUNDDOWN(Z38/2, 0),VLOOKUP(E29,BC37:BE40,3,FALSE))) -> 0 | AZ39: =IFERROR(MAX(0, ROUNDDOWN(E38*W29, 0)), 0) -> 0 | BC39: バス | BD39: 3400000
L40: ※税抜き価格を記入すること。 | BC40: タクシー | BD40: 400000
B42: 車種 | V42: 燃料費補助単価 | W42: =IF(E42=AZ43,BA43,IF(E42=AZ44,BA44,IF(E42=AZ45,BA45,IF(E42=AZ46,BA46,"")))) | BA42: 燃料費補助単価 | BD42: 有料道路補助率
B43: 車両番号 | V43: 高速道路利用費補助率 | W43: =IF(E42=AZ43,BD43,IF(E42=AZ44,BD44,IF(E42=AZ45,BD45,IF(E42=AZ46,BD46,"")))) | AE43: 車両番号 | AH43: =IF(E43="","",E43) | AZ43: 小型トラック | BA43: 476 | BC43: 小型トラック | BD43: 0.5
...
