Workbook
Name DATAAREA: [1]H8所要!$A$4:$BI$121
Name DATAAREA_2: #REF!
Name FILTER_AREA: [1]H8所要!$A$3:$BI$121
Name TEMP: [2]Sheet1!$A$2:$H$91
Name 条件1: #REF!
Name 条件2: #REF!
Name 条件3: #REF!
Name 条件9A: #REF!
Name 条件9B: #REF!
Name 条件9B特: #REF!
Name 条件A: #REF!
Name 条件B: #REF!
Name 条件B特: #REF!
Name 保育料月額: [1]H8所要!$V$3:$V$92
Name 保母等常勤職員換算数: [1]H8所要!$Q$3:$Q$92

Sheet 研修記録
A1: 研 修 記 録 | AD1: 研 修 記 録 | BG1: 研 修 記 録 | CJ1: 研 修 記 録 | DM1: 研 修 記 録 | EP1: 研 修 記 録
T3: 研修受講者①氏名 | AW3: 研修受講者②氏名 | BZ3: 研修受講者③氏名 | DC3: 研修受講者④氏名 | EF3: 研修受講者⑤氏名 | FI3: 研修受講者⑥氏名
C6: 研修日 | G6: 職種 | I6: 同行者氏名 | O6: 研修時間 | U6: → | V6: 総計 | AF6: 研修日 | AJ6: 職種 | AL6: 同行者氏名 | AR6: 研修時間 | AX6: → | AY6: 総計 | BI6: 研修日 | BM6: 職種 | BO6: 同行者氏名 | BU6: 研修時間 | CA6: → | CB6: 総計 | CL6: 研修日 | CP6: 職種 | CR6: 同行者氏名 | CX6: 研修時間 | DD6: → | DE6: 総計 | DO6: 研修日 | DS6: 職種 | DU6: 同行者氏名 | EA6: 研修時間 | EG6: → | EH6: 総計 | ER6: 研修日 | EV6: 職種 | EX6: 同行者氏名 | FD6: 研修時間 | FJ6: → | FK6: 総計
B7: 1 | D7: 月 | F7: 日 | Q7: 時間 | T7: 分 | V7: {=SUMPRODUCT(O7:O206*60+INT(R7:R206/10)*10)/1440} -> 0 | AE7: 1 | AG7: 月 | AI7: 日 | AT7: 時間 | AW7: 分 | AY7: {=SUMPRODUCT(AR7:AR206*60+INT(AU7:AU206/10)*10)/1440} -> 0 | BH7: 1 | BJ7: 月 | BL7: 日 | BW7: 時間 | BZ7: 分 | CB7: {=SUMPRODUCT(BU7:BU206*60+INT(BX7:BX206/10)*10)/1440} -> 0 | CK7: 1 | CM7: 月 | CO7: 日 | CZ7: 時間 | DC7: 分 | DE7: {=SUMPRODUCT(CX7:CX206*60+INT(DA7:DA206/10)*10)/1440} -> 0 | DN7: 1 | DP7: 月 | DR7: 日 | EC7: 時間 | EF7: 分 | EH7: {=SUMPRODUCT(EA7:EA206*60+INT(ED7:ED206/10)*10)/1440} -> 0 | EQ7: 1 | ES7: 月 | EU7: 日 | FF7: 時間 | FI7: 分 | FK7: {=SUMPRODUCT(FD7:FD206*60+INT(FG7:FG206/10)*10)/1440} -> 0
B8: 2 | D8: 月 | F8: 日 | Q8: 時間 | T8: 分 | AE8: 2 | AG8: 月 | AI8: 日 | AT8: 時間 | AW8: 分 | BH8: 2 | BJ8: 月 | BL8: 日 | BW8: 時間 | BZ8: 分 | CK8: 2 | CM8: 月 | CO8: 日 | CZ8: 時間 | DC8: 分 | DN8: 2 | DP8: 月 | DR8: 日 | EC8: 時間 | EF8: 分 | EQ8: 2 | ES8: 月 | EU8: 日 | FF8: 時間 | FI8: 分
B9: 3 | D9: 月 | F9: 日 | Q9: 時間 | T9: 分 | V9: 4月 | X9: {=INT(SUMPRODUCT((C7:C206=4)*(O7:O206*60+ROUNDDOWN(R7:R206/10,0)*10))/60)& ":" &TEXT(MOD(SUMPRODUCT((C7:C206=4)*(O7:O206*60+ROUNDDOWN(R7:R206/10,0)*10)),60),"00")} -> 0:00 | AE9: 3 | AG9: 月 | AI9: 日 | AT9: 時間 | AW9: 分 | AY9: 4月 | BA9: {=INT(SUMPRODUCT((AF7:AF206=4)*(AR7:AR206*60+ROUNDDOWN(AU7:AU206/10,0)*10))/60)& ":" &TEXT(MOD(SUMPRODUCT((AF7:AF206=4)*(AR7:AR206*60+ROUNDDOWN(AU7:AU206/10,0)*10)),60),"00")} -> 0:00 | BH9: 3 | BJ9: 月 | BL9: 日 | BW9: 時間 | BZ9: 分 | CB9: 4月 | CD9: {=INT(SUMPRODUCT((BI7:BI206=4)*(BU7:BU206*60+ROUNDDOWN(BX7:BX206/10,0)*10))/60)& ":" &TEXT(MOD(SUMPRODUCT((BI7:BI206=4)*(BU7:BU206*60+ROUNDDOWN(BX7:BX206/10,0)*10)),60),"00")} -> 0:00 | CK9: 3 | CM9: 月 | CO9: 日 | CZ9: 時間 | DC9: 分 | DE9: 4月 | DG9: {=INT(SUMPRODUCT((CL7:CL206=4)*(CX7:CX206*60+ROUNDDOWN(DA7:DA206/10,0)*10))/60)& ":" &TEXT(MOD(SUMPRODUCT((CL7:CL206=4)*(CX7:CX206*60+ROUNDDOWN(DA7:DA206/10,0)*10)),60),"00")} -> 0:00 | DN9: 3 | DP9: 月 | DR9: 日 | EC9: 時間 | EF9: 分 | EH9: 4月 | EJ9: {=INT(SUMPRODUCT((DO7:DO206=4)*(EA7:EA206*60+ROUNDDOWN(ED7:ED206/10,0)*10))/60)& ":" &TEXT(MOD(SUMPRODUCT((DO7:DO206=4)*(EA7:EA206*60+ROUNDDOWN(ED7:ED206/10,0)*10)),60),"00")} -> 0:00 | EQ9: 3 | ES9: 月 | EU9: 日 | FF9: 時間 | FI9: 分 | FK9: 4月 | FM9: {=INT(SUMPRODUCT((ER7:ER206=4)*(FD7:FD206*60+ROUNDDOWN(FG7:FG206/10,0)*10))/60)& ":" &TEXT(MOD(SUMPRODUCT((ER7:ER206=4)*(FD7:FD206*60+ROUNDDOWN(FG7:FG206/10,0)*10)),60),"00")} -> 0:00
B10: 4 | D10: 月 | F10: 日 | Q10: 時間 | T10: 分 | V10: 5月 | X10: {=INT(SUMPRODUCT((C7:C206=5)*(O7:O206*60+ROUNDDOWN(R7:R206/10,0)*10))/60)& ":" &TEXT(MOD(SUMPRODUCT((C7:C206=5)*(O7:O206*60+ROUNDDOWN(R7:R206/10,0)*10)),60),"00")} -> 0:00 | AE10: 4 | AG10: 月 | AI10: 日 | AT10: 時間 | AW10: 分 | AY10: 5月 | BA10: {=INT(SUMPRODUCT((AF7:AF206=5)*(AR7:AR206*60+ROUNDDOWN(AU7:AU206/10,0)*10))/60)& ":" &TEXT(MOD(SUMPRODUCT((AF7:AF206=5)*(AR7:AR206*60+ROUNDDOWN(AU7:AU206/10,0)*10)),60),"00")} -> 0:00 | BH10: 4 | BJ10: 月 | BL10: 日 | BW10: 時間 | BZ10: 分 | CB10: 5月 | CD10: {=INT(SUMPRODUCT((BI7:BI206=5)*(BU7:BU206*60+ROUNDDOWN(BX7:BX206/10,0)*10))/60)& ":" &TEXT(MOD(SUMPRODUCT((BI7:BI206=5)*(BU7:BU206*60+ROUNDDOWN(BX7:BX206/10,0)*10)),60),"00")} -> 0:00 | CK10: 4 | CM10: 月 | CO10: 日 | CZ10: 時間 | DC10: 分 | DE10: 5月 | DG10: {=INT(SUMPRODUCT((CL7:CL206=5)*(CX7:CX206*60+ROUNDDOWN(DA7:DA206/10,0)*10))/60)& ":" &TEXT(MOD(SUMPRODUCT((CL7:CL206=5)*(CX7:CX206*60+ROUNDDOWN(DA7:DA206/10,0)*10)),60),"00")} -> 0:00 | DN10: 4 | DP10: 月 | DR10: 日 | EC10: 時間 | EF10: 分 | EH10: 5月 | EJ10: {=INT(SUMPRODUCT((DO7:DO206=5)*(EA7:EA206*60+ROUNDDOWN(ED7:ED206/10,0)*10))/60)& ":" &TEXT(MOD(SUMPRODUCT((DO7:DO206=5)*(EA7:EA206*60+ROUNDDOWN(ED7:ED206/10,0)*10)),60),"00")} -> 0:00 | EQ10: 4 | ES10: 月 | EU10: 日 | FF10: 時間 | FI10: 分 | FK10: 5月 | FM10: {=INT(SUMPRODUCT((ER7:ER206=5)*(FD7:FD206*60+ROUNDDOWN(FG7:FG206/10,0)*10))/60)& ":" &TEXT(MOD(SUMPRODUCT((ER7:ER206=5)*(FD7:FD206*60+ROUNDDOWN(FG7:FG206/10,0)*10)),60),"00")} -> 0:00
B11: 5 | D11: 月 | F11: 日 | Q11: 時間 | T11: 分 | V11: 6月 | X11: {=INT(SUMPRODUCT((C7:C206=6)*(O7:O206*60+ROUNDDOWN(R7:R206/10,0)*10))/60)& ":" &TEXT(MOD(SUMPRODUCT((C7:C206=6)*(O7:O206*60+ROUNDDOWN(R7:R206/10,0)*10)),60),"00")} -> 0:00 | AE11: 5 | AG11: 月 | AI11: 日 | AT11: 時間 | AW11: 分 | AY11: 6月 | BA11: {=INT(SUMPRODUCT((AF7:AF206=6)*(AR7:AR206*60+ROUNDDOWN(AU7:AU206/10,0)*10))/60)& ":" &TEXT(MOD(SUMPRODUCT((AF7:AF206=6)*(AR7:AR206*60+ROUNDDOWN(AU7:AU206/10,0)*10)),60),"00")} -> 0:00 | BH11: 5 | BJ11: 月 | BL11: 日 | BW11: 時間 | BZ11: 分 | CB11: 6月 | CD11: {=INT(SUMPRODUCT((BI7:BI206=6)*(BU7:BU206*60+ROUNDDOWN(BX7:BX206/10,0)*10))/60)& ":" &TEXT(MOD(SUMPRODUCT((BI7:BI206=6)*(BU7:BU206*60+ROUNDDOWN(BX7:BX206/10,0)*10)),60),"00")} -> 0:00 | CK11: 5 | CM11: 月 | CO11: 日 | CZ11: 時間 | DC11: 分 | DE11: 6月 | DG11: {=INT(SUMPRODUCT((CL7:CL206=6)*(CX7:CX206*60+ROUNDDOWN(DA7:DA206/10,0)*10))/60)& ":" &TEXT(MOD(SUMPRODUCT((CL7:CL206=6)*(CX7:CX206*60+ROUNDDOWN(DA7:DA206/10,0)*10)),60),"00")} -> 0:00 | DN11: 5 | DP11: 月 | DR11: 日 | EC11: 時間 | EF11: 分 | EH11: 6月 | EJ11: {=INT(SUMPRODUCT((DO7:DO206=6)*(EA7:EA206*60+ROUNDDOWN(ED7:ED206/10,0)*10))/60)& ":" &TEXT(MOD(SUMPRODUCT((DO7:DO206=6)*(EA7:EA206*60+ROUNDDOWN(ED7:ED206/10,0)*10)),60),"00")} -> 0:00 | EQ11: 5 | ES11: 月 | EU11: 日 | FF11: 時間 | FI11: 分 | FK11: 6月 | FM11: {=INT(SUMPRODUCT((ER7:ER206=6)*(FD7:FD206*60+ROUNDDOWN(FG7:FG206/10,0)*10))/60)& ":" &TEXT(MOD(SUMPRODUCT((ER7:ER206=6)*(FD7:FD206*60+ROUNDDOWN(FG7:FG206/10,0)*10)),60),"00")} -> 0:00
B12: 6 | D12: 月 | F12: 日 | Q12: 時間 | T12: 分 | V12: 7月 | X12: {=INT(SUMPRODUCT((C7:C206=7)*(O7:O206*60+ROUNDDOWN(R7:R206/10,0)*10))/60)& ":" &TEXT(MOD(SUMPRODUCT((C7:C206=7)*(O7:O206*60+ROUNDDOWN(R7:R206/10,0)*10)),60),"00")} -> 0:00 | AE12: 6 | AG12: 月 | AI12: 日 | AT12: 時間 | AW12: 分 | AY12: 7月 | BA12: {=INT(SUMPRODUCT((AF7:AF206=7)*(AR7:AR206*60+ROUNDDOWN(AU7:AU206/10,0)*10))/60)& ":" &TEXT(MOD(SUMPRODUCT((AF7:AF206=7)*(AR7:AR206*60+ROUNDDOWN(AU7:AU206/10,0)*10)),60),"00")} -> 0:00 | BH12: 6 | BJ12: 月 | BL12: 日 | BW12: 時間 | BZ12: 分 | CB12: 7月 | CD12: {=INT(SUMPRODUCT((BI7:BI206=7)*(BU7:BU206*60+ROUNDDOWN(BX7:BX206/10,0)*10))/60)& ":" &TEXT(MOD(SUMPRODUCT((BI7:BI206=7)*(BU7:BU206*60+ROUNDDOWN(BX7:BX206/10,0)*10)),60),"00")} -> 0:00 | CK12: 6 | CM12: 月 | CO12: 日 | CZ12: 時間 | DC12: 分 | DE12: 7月 | DG12: {=INT(SUMPRODUCT((CL7:CL206=7)*(CX7:CX206*60+ROUNDDOWN(DA7:DA206/10,0)*10))/60)& ":" &TEXT(MOD(SUMPRODUCT((CL7:CL206=7)*(CX7:CX206*60+ROUNDDOWN(DA7:DA206/10,0)*10)),60),"00")} -> 0:00 | DN12: 6 | DP12: 月 | DR12: 日 | EC12: 時間 | EF12: 分 | EH12: 7月 | EJ12: {=INT(SUMPRODUCT((DO7:DO206=7)*(EA7:EA206*60+ROUNDDOWN(ED7:ED206/10,0)*10))/60)& ":" &TEXT(MOD(SUMPRODUCT((DO7:DO206=7)*(EA7:EA206*60+ROUNDDOWN(ED7:ED206/10,0)*10)),60),"00")} -> 0:00 | EQ12: 6 | ES12: 月 | EU12: 日 | FF12: 時間 | FI12: 分 | FK12: 7月 | FM12: {=INT(SUMPRODUCT((ER7:ER206=7)*(FD7:FD206*60+ROUNDDOWN(FG7:FG206/10,0)*10))/60)& ":" &TEXT(MOD(SUMPRODUCT((ER7:ER206=7)*(FD7:FD206*60+ROUNDDOWN(FG7:FG206/10,0)*10)),60),"00")} -> 0:00
B13: 7 | D13: 月 | F13: 日 | Q13: 時間 | T13: 分 | V13: 8月 | X13: {=INT(SUMPRODUCT((C7:C206=8)*(O7:O206*60+ROUNDDOWN(R7:R206/10,0)*10))/60)& ":" &TEXT(MOD(SUMPRODUCT((C7:C206=8)*(O7:O206*60+ROUNDDOWN(R7:R206/10,0)*10)),60),"00")} -> 0:00 | AE13: 7 | AG13: 月 | AI13: 日 | AT13: 時間 | AW13: 分 | AY13: 8月 | BA13: {=INT(SUMPRODUCT((AF7:AF206=8)*(AR7:AR206*60+ROUNDDOWN(AU7:AU206/10,0)*10))/60)& ":" &TEXT(MOD(SUMPRODUCT((AF7:AF206=8)*(AR7:AR206*60+ROUNDDOWN(AU7:AU206/10,0)*10)),60),"00")} -> 0:00 | BH13: 7 | BJ13: 月 | BL13: 日 | BW13: 時間 | BZ13: 分 | CB13: 8月 | CD13: {=INT(SUMPRODUCT((BI7:BI206=8)*(BU7:BU206*60+ROUNDDOWN(BX7:BX206/10,0)*10))/60)& ":" &TEXT(MOD(SUMPRODUCT((BI7:BI206=8)*(BU7:BU206*60+ROUNDDOWN(BX7:BX206/10,0)*10)),60),"00")} -> 0:00 | CK13: 7 | CM13: 月 | CO13: 日 | CZ13: 時間 | DC13: 分 | DE13: 8月 | DG13: {=INT(SUMPRODUCT((CL7:CL206=8)*(CX7:CX206*60+ROUNDDOWN(DA7:DA206/10,0)*10))/60)& ":" &TEXT(MOD(SUMPRODUCT((CL7:CL206=8)*(CX7:CX206*60+ROUNDDOWN(DA7:DA206/10,0)*10)),60),"00")} -> 0:00 | DN13: 7 | DP13: 月 | DR13: 日 | EC13: 時間 | EF13: 分 | EH13: 8月 | EJ13: {=INT(SUMPRODUCT((DO7:DO206=8)*(EA7:EA206*60+ROUNDDOWN(ED7:ED206/10,0)*10))/60)& ":" &TEXT(MOD(SUMPRODUCT((DO7:DO206=8)*(EA7:EA206*60+ROUNDDOWN(ED7:ED206/10,0)*10)),60),"00")} -> 0:00 | EQ13: 7 | ES13: 月 | EU13: 日 | FF13: 時間 | FI13: 分 | FK13: 8月 | FM13: {=INT(SUMPRODUCT((ER7:ER206=8)*(FD7:FD206*60+ROUNDDOWN(FG7:FG206/10,0)*10))/60)& ":" &TEXT(MOD(SUMPRODUCT((ER7:ER206=8)*(FD7:FD206*60+ROUNDDOWN(FG7:FG206/10,0)*10)),60),"00")} -> 0:00
B14: 8 | D14: 月 | F14: 日 | Q14: 時間 | T14: 分 | V14: 9月 | X14: {=INT(SUMPRODUCT((C7:C206=9)*(O7:O206*60+ROUNDDOWN(R7:R206/10,0)*10))/60)& ":" &TEXT(MOD(SUMPRODUCT((C7:C206=9)*(O7:O206*60+ROUNDDOWN(R7:R206/10,0)*10)),60),"00")} -> 0:00 | AE14: 8 | AG14: 月 | AI14: 日 | AT14: 時間 | AW14: 分 | AY14: 9月 | BA14: {=INT(SUMPRODUCT((AF7:AF206=9)*(AR7:AR206*60+ROUNDDOWN(AU7:AU206/10,0)*10))/60)& ":" &TEXT(MOD(SUMPRODUCT((AF7:AF206=9)*(AR7:AR206*60+ROUNDDOWN(AU7:AU206/10,0)*10)),60),"00")} -> 0:00 | BH14: 8 | BJ14: 月 | BL14: 日 | BW14: 時間 | BZ14: 分 | CB14: 9月 | CD14: {=INT(SUMPRODUCT((BI7:BI206=9)*(BU7:BU206*60+ROUNDDOWN(BX7:BX206/10,0)*10))/60)& ":" &TEXT(MOD(SUMPRODUCT((BI7:BI206=9)*(BU7:BU206*60+ROUNDDOWN(BX7:BX206/10,0)*10)),60),"00")} -> 0:00 | CK14: 8 | CM14: 月 | CO14: 日 | CZ14: 時間 | DC14: 分 | DE14: 9月 | DG14: {=INT(SUMPRODUCT((CL7:CL206=9)*(CX7:CX206*60+ROUNDDOWN(DA7:DA206/10,0)*10))/60)& ":" &TEXT(MOD(SUMPRODUCT((CL7:CL206=9)*(CX7:CX206*60+ROUNDDOWN(DA7:DA206/10,0)*10)),60),"00")} -> 0:00 | DN14: 8 | DP14: 月 | DR14: 日 | EC14: 時間 | EF14: 分 | EH14: 9月 | EJ14: {=INT(SUMPRODUCT((DO7:DO206=9)*(EA7:EA206*60+ROUNDDOWN(ED7:ED206/10,0)*10))/60)& ":" &TEXT(MOD(SUMPRODUCT((DO7:DO206=9)*(EA7:EA206*60+ROUNDDOWN(ED7:ED206/10,0)*10)),60),"00")} -> 0:00 | EQ14: 8 | ES14: 月 | EU14: 日 | FF14: 時間 | FI14: 分 | FK14: 9月 | FM14: {=INT(SUMPRODUCT((ER7:ER206=9)*(FD7:FD206*60+ROUNDDOWN(FG7:FG206/10,0)*10))/60)& ":" &TEXT(MOD(SUMPRODUCT((ER7:ER206=9)*(FD7:FD206*60+ROUNDDOWN(FG7:FG206/10,0)*10)),60),"00")} -> 0:00
B15: 9 | D15: 月 | F15: 日 | Q15: 時間 | T15: 分 | V15: 10月 | X15: {=INT(SUMPRODUCT((C7:C206=10)*(O7:O206*60+ROUNDDOWN(R7:R206/10,0)*10))/60)& ":" &TEXT(MOD(SUMPRODUCT((C7:C206=10)*(O7:O206*60+ROUNDDOWN(R7:R206/10,0)*10)),60),"00")} -> 0:00 | AE15: 9 | AG15: 月 | AI15: 日 | AT15: 時間 | AW15: 分 | AY15: 10月 | BA15: {=INT(SUMPRODUCT((AF7:AF206=10)*(AR7:AR206*60+ROUNDDOWN(AU7:AU206/10,0)*10))/60)& ":" &TEXT(MOD(SUMPRODUCT((AF7:AF206=10)*(AR7:AR206*60+ROUNDDOWN(AU7:AU206/10,0)*10)),60),"00")} -> 0:00 | BH15: 9 | BJ15: 月 | BL15: 日 | BW15: 時間 | BZ15: 分 | CB15: 10月 | CD15: {=INT(SUMPRODUCT((BI7:BI206=10)*(BU7:BU206*60+ROUNDDOWN(BX7:BX206/10,0)*10))/60)& ":" &TEXT(MOD(SUMPRODUCT((BI7:BI206=10)*(BU7:BU206*60+ROUNDDOWN(BX7:BX206/10,0)*10)),60),"00")} -> 0:00 | CK15: 9 | CM15: 月 | CO15: 日 | CZ15: 時間 | DC15: 分 | DE15: 10月 | DG15: {=INT(SUMPRODUCT((CL7:CL206=10)*(CX7:CX206*60+ROUNDDOWN(DA7:DA206/10,0)*10))/60)& ":" &TEXT(MOD(SUMPRODUCT((CL7:CL206=10)*(CX7:CX206*60+ROUNDDOWN(DA7:DA206/10,0)*10)),60),"00")} -> 0:00 | DN15: 9 | DP15: 月 | DR15: 日 | EC15: 時間 | EF15: 分 | EH15: 10月 | EJ15: {=INT(SUMPRODUCT((DO7:DO206=10)*(EA7:EA206*60+ROUNDDOWN(ED7:ED206/10,0)*10))/60)& ":" &TEXT(MOD(SUMPRODUCT((DO7:DO206=10)*(EA7:EA206*60+ROUNDDOWN(ED7:ED206/10,0)*10)),60),"00")} -> 0:00 | EQ15: 9 | ES15: 月 | EU15: 日 | FF15: 時間 | FI15: 分 | FK15: 10月 | FM15: {=INT(SUMPRODUCT((ER7:ER206=10)*(FD7:FD206*60+ROUNDDOWN(FG7:FG206/10,0)*10))/60)& ":" &TEXT(MOD(SUMPRODUCT((ER7:ER206=10)*(FD7:FD206*60+ROUNDDOWN(FG7:FG206/10,0)*10)),60),"00")} -> 0:00
B16: 10 | D16: 月 | F16: 日 | Q16: 時間 | T16: 分 | V16: 11月 | X16: {=INT(SUMPRODUCT((C7:C206=11)*(O7:O206*60+ROUNDDOWN(R7:R206/10,0)*10))/60)& ":" &TEXT(MOD(SUMPRODUCT((C7:C206=11)*(O7:O206*60+ROUNDDOWN(R7:R206/10,0)*10)),60),"00")} -> 0:00 | AE16: 10 | AG16: 月 | AI16: 日 | AT16: 時間 | AW16: 分 | AY16: 11月 | BA16: {=INT(SUMPRODUCT((AF7:AF206=11)*(AR7:AR206*60+ROUNDDOWN(AU7:AU206/10,0)*10))/60)& ":" &TEXT(MOD(SUMPRODUCT((AF7:AF206=11)*(AR7:AR206*60+ROUNDDOWN(AU7:AU206/10,0)*10)),60),"00")} -> 0:00 | BH16: 10 | BJ16: 月 | BL16: 日 | BW16: 時間 | BZ16: 分 | CB16: 11月 | CD16: {=INT(SUMPRODUCT((BI7:BI206=11)*(BU7:BU206*60+ROUNDDOWN(BX7:BX206/10,0)*10))/60)& ":" &TEXT(MOD(SUMPRODUCT((BI7:BI206=11)*(BU7:BU206*60+ROUNDDOWN(BX7:BX206/10,0)*10)),60),"00")} -> 0:00 | CK16: 10 | CM16: 月 | CO16: 日 | CZ16: 時間 | DC16: 分 | DE16: 11月 | DG16: {=INT(SUMPRODUCT((CL7:CL206=11)*(CX7:CX206*60+ROUNDDOWN(DA7:DA206/10,0)*10))/60)& ":" &TEXT(MOD(SUMPRODUCT((CL7:CL206=11)*(CX7:CX206*60+ROUNDDOWN(DA7:DA206/10,0)*10)),60),"00")} -> 0:00 | DN16: 10 | DP16: 月 | DR16: 日 | EC16: 時間 | EF16: 分 | EH16: 11月 | EJ16: {=INT(SUMPRODUCT((DO7:DO206=11)*(EA7:EA206*60+ROUNDDOWN(ED7:ED206/10,0)*10))/60)& ":" &TEXT(MOD(SUMPRODUCT((DO7:DO206=11)*(EA7:EA206*60+ROUNDDOWN(ED7:ED206/10,0)*10)),60),"00")} -> 0:00 | EQ16: 10 | ES16: 月 | EU16: 日 | FF16: 時間 | FI16: 分 | FK16: 11月 | FM16: {=INT(SUMPRODUCT((ER7:ER206=11)*(FD7:FD206*60+ROUNDDOWN(FG7:FG206/10,0)*10))/60)& ":" &TEXT(MOD(SUMPRODUCT((ER7:ER206=11)*(FD7:FD206*60+ROUNDDOWN(FG7:FG206/10,0)*10)),60),"00")} -> 0:00
B17: 11 | D17: 月 | F17: 日 | Q17: 時間 | T17: 分 | V17: 12月 | X17: {=INT(SUMPRODUCT((C7:C206=12)*(O7:O206*60+ROUNDDOWN(R7:R206/10,0)*10))/60)& ":" &TEXT(MOD(SUMPRODUCT((C7:C206=12)*(O7:O206*60+ROUNDDOWN(R7:R206/10,0)*10)),60),"00")} -> 0:00 | AE17: 11 | AG17: 月 | AI17: 日 | AT17: 時間 | AW17: 分 | AY17: 12月 | BA17: {=INT(SUMPRODUCT((AF7:AF206=12)*(AR7:AR206*60+ROUNDDOWN(AU7:AU206/10,0)*10))/60)& ":" &TEXT(MOD(SUMPRODUCT((AF7:AF206=12)*(AR7:AR206*60+ROUNDDOWN(AU7:AU206/10,0)*10)),60),"00")} -> 0:00 | BH17: 11 | BJ17: 月 | BL17: 日 | BW17: 時間 | BZ17: 分 | CB17: 12月 | CD17: {=INT(SUMPRODUCT((BI7:BI206=12)*(BU7:BU206*60+ROUNDDOWN(BX7:BX206/10,0)*10))/60)& ":" &TEXT(MOD(SUMPRODUCT((BI7:BI206=12)*(BU7:BU206*60+ROUNDDOWN(BX7:BX206/10,0)*10)),60),"00")} -> 0:00 | CK17: 11 | CM17: 月 | CO17: 日 | CZ17: 時間 | DC17: 分 | DE17: 12月 | DG17: {=INT(SUMPRODUCT((CL7:CL206=12)*(CX7:CX206*60+ROUNDDOWN(DA7:DA206/10,0)*10))/60)& ":" &TEXT(MOD(SUMPRODUCT((CL7:CL206=12)*(CX7:CX206*60+ROUNDDOWN(DA7:DA206/10,0)*10)),60),"00")} -> 0:00 | DN17: 11 | DP17: 月 | DR17: 日 | EC17: 時間 | EF17: 分 | EH17: 12月 | EJ17: {=INT(SUMPRODUCT((DO7:DO206=12)*(EA7:EA206*60+ROUNDDOWN(ED7:ED206/10,0)*10))/60)& ":" &TEXT(MOD(SUMPRODUCT((DO7:DO206=12)*(EA7:EA206*60+ROUNDDOWN(ED7:ED206/10,0)*10)),60),"00")} -> 0:00 | EQ17: 11 | ES17: 月 | EU17: 日 | FF17: 時間 | FI17: 分 | FK17: 12月 | FM17: {=INT(SUMPRODUCT((ER7:ER206=12)*(FD7:FD206*60+ROUNDDOWN(FG7:FG206/10,0)*10))/60)& ":" &TEXT(MOD(SUMPRODUCT((ER7:ER206=12)*(FD7:FD206*60+ROUNDDOWN(FG7:FG206/10,0)*10)),60),"00")} -> 0:00
B18: 12 | D18: 月 | F18: 日 | Q18: 時間 | T18: 分 | V18: 1月 | X18: {=INT(SUMPRODUCT((C7:C206=1)*(O7:O206*60+ROUNDDOWN(R7:R206/10,0)*10))/60)& ":" &TEXT(MOD(SUMPRODUCT((C7:C206=1)*(O7:O206*60+ROUNDDOWN(R7:R206/10,0)*10)),60),"00")} -> 0:00 | AE18: 12 | AG18: 月 | AI18: 日 | AT18: 時間 | AW18: 分 | AY18: 1月 | BA18: {=INT(SUMPRODUCT((AF7:AF206=1)*(AR7:AR206*60+ROUNDDOWN(AU7:AU206/10,0)*10))/60)& ":" &TEXT(MOD(SUMPRODUCT((AF7:AF206=1)*(AR7:AR206*60+ROUNDDOWN(AU7:AU206/10,0)*10)),60),"00")} -> 0:00 | BH18: 12 | BJ18: 月 | BL18: 日 | BW18: 時間 | BZ18: 分 | CB18: 1月 | CD18: {=INT(SUMPRODUCT((BI7:BI206=1)*(BU7:BU206*60+ROUNDDOWN(BX7:BX206/10,0)*10))/60)& ":" &TEXT(MOD(SUMPRODUCT((BI7:BI206=1)*(BU7:BU206*60+ROUNDDOWN(BX7:BX206/10,0)*10)),60),"00")} -> 0:00 | CK18: 12 | CM18: 月 | CO18: 日 | CZ18: 時間 | DC18: 分 | DE18: 1月 | DG18: {=INT(SUMPRODUCT((CL7:CL206=1)*(CX7:CX206*60+ROUNDDOWN(DA7:DA206/10,0)*10))/60)& ":" &TEXT(MOD(SUMPRODUCT((CL7:CL206=1)*(CX7:CX206*60+ROUNDDOWN(DA7:DA206/10,0)*10)),60),"00")} -> 0:00 | DN18: 12 | DP18: 月 | DR18: 日 | EC18: 時間 | EF18: 分 | EH18: 1月 | EJ18: {=INT(SUMPRODUCT((DO7:DO206=1)*(EA7:EA206*60+ROUNDDOWN(ED7:ED206/10,0)*10))/60)& ":" &TEXT(MOD(SUMPRODUCT((DO7:DO206=1)*(EA7:EA206*60+ROUNDDOWN(ED7:ED206/10,0)*10)),60),"00")} -> 0:00 | EQ18: 12 | ES18: 月 | EU18: 日 | FF18: 時間 | FI18: 分 | FK18: 1月 | FM18: {=INT(SUMPRODUCT((ER7:ER206=1)*(FD7:FD206*60+ROUNDDOWN(FG7:FG206/10,0)*10))/60)& ":" &TEXT(MOD(SUMPRODUCT((ER7:ER206=1)*(FD7:FD206*60+ROUNDDOWN(FG7:FG206/10,0)*10)),60),"00")} -> 0:00
B19: 13 | D19: 月 | F19: 日 | Q19: 時間 | T19: 分 | V19: 2月 | X19: {=INT(SUMPRODUCT((C7:C206=2)*(O7:O206*60+ROUNDDOWN(R7:R206/10,0)*10))/60)& ":" &TEXT(MOD(SUMPRODUCT((C7:C206=2)*(O7:O206*60+ROUNDDOWN(R7:R206/10,0)*10)),60),"00")} -> 0:00 | AE19: 13 | AG19: 月 | AI19: 日 | AT19: 時間 | AW19: 分 | AY19: 2月 | BA19: {=INT(SUMPRODUCT((AF7:AF206=2)*(AR7:AR206*60+ROUNDDOWN(AU7:AU206/10,0)*10))/60)& ":" &TEXT(MOD(SUMPRODUCT((AF7:AF206=2)*(AR7:AR206*60+ROUNDDOWN(AU7:AU206/10,0)*10)),60),"00")} -> 0:00 | BH19: 13 | BJ19: 月 | BL19: 日 | BW19: 時間 | BZ19: 分 | CB19: 2月 | CD19: {=INT(SUMPRODUCT((BI7:BI206=2)*(BU7:BU206*60+ROUNDDOWN(BX7:BX206/10,0)*10))/60)& ":" &TEXT(MOD(SUMPRODUCT((BI7:BI206=2)*(BU7:BU206*60+ROUNDDOWN(BX7:BX206/10,0)*10)),60),"00")} -> 0:00 | CK19: 13 | CM19: 月 | CO19: 日 | CZ19: 時間 | DC19: 分 | DE19: 2月 | DG19: {=INT(SUMPRODUCT((CL7:CL206=2)*(CX7:CX206*60+ROUNDDOWN(DA7:DA206/10,0)*10))/60)& ":" &TEXT(MOD(SUMPRODUCT((CL7:CL206=2)*(CX7:CX206*60+ROUNDDOWN(DA7:DA206/10,0)*10)),60),"00")} -> 0:00 | DN19: 13 | DP19: 月 | DR19: 日 | EC19: 時間 | EF19: 分 | EH19: 2月 | EJ19: {=INT(SUMPRODUCT((DO7:DO206=2)*(EA7:EA206*60+ROUNDDOWN(ED7:ED206/10,0)*10))/60)& ":" &TEXT(MOD(SUMPRODUCT((DO7:DO206=2)*(EA7:EA206*60+ROUNDDOWN(ED7:ED206/10,0)*10)),60),"00")} -> 0:00 | EQ19: 13 | ES19: 月 | EU19: 日 | FF19: 時間 | FI19: 分 | FK19: 2月 | FM19: {=INT(SUMPRODUCT((ER7:ER206=2)*(FD7:FD206*60+ROUNDDOWN(FG7:FG206/10,0)*10))/60)& ":" &TEXT(MOD(SUMPRODUCT((ER7:ER206=2)*(FD7:FD206*60+ROUNDDOWN(FG7:FG206/10,0)*10)),60),"00")} -> 0:00
B20: 14 | D20: 月 | F20: 日 | Q20: 時間 | T20: 分 | V20: 3月 | X20: {=INT(SUMPRODUCT((C7:C206=3)*(O7:O206*60+ROUNDDOWN(R7:R206/10,0)*10))/60)& ":" &TEXT(MOD(SUMPRODUCT((C7:C206=3)*(O7:O206*60+ROUNDDOWN(R7:R206/10,0)*10)),60),"00")} -> 0:00 | AE20: 14 | AG20: 月 | AI20: 日 | AT20: 時間 | AW20: 分 | AY20: 3月 | BA20: {=INT(SUMPRODUCT((AF7:AF206=3)*(AR7:AR206*60+ROUNDDOWN(AU7:AU206/10,0)*10))/60)& ":" &TEXT(MOD(SUMPRODUCT((AF7:AF206=3)*(AR7:AR206*60+ROUNDDOWN(AU7:AU206/10,0)*10)),60),"00")} -> 0:00 | BH20: 14 | BJ20: 月 | BL20: 日 | BW20: 時間 | BZ20: 分 | CB20: 3月 | CD20: {=INT(SUMPRODUCT((BI7:BI206=3)*(BU7:BU206*60+ROUNDDOWN(BX7:BX206/10,0)*10))/60)& ":" &TEXT(MOD(SUMPRODUCT((BI7:BI206=3)*(BU7:BU206*60+ROUNDDOWN(BX7:BX206/10,0)*10)),60),"00")} -> 0:00 | CK20: 14 | CM20: 月 | CO20: 日 | CZ20: 時間 | DC20: 分 | DE20: 3月 | DG20: {=INT(SUMPRODUCT((CL7:CL206=3)*(CX7:CX206*60+ROUNDDOWN(DA7:DA206/10,0)*10))/60)& ":" &TEXT(MOD(SUMPRODUCT((CL7:CL206=3)*(CX7:CX206*60+ROUNDDOWN(DA7:DA206/10,0)*10)),60),"00")} -> 0:00 | DN20: 14 | DP20: 月 | DR20: 日 | EC20: 時間 | EF20: 分 | EH20: 3月 | EJ20: {=INT(SUMPRODUCT((DO7:DO206=3)*(EA7:EA206*60+ROUNDDOWN(ED7:ED206/10,0)*10))/60)& ":" &TEXT(MOD(SUMPRODUCT((DO7:DO206=3)*(EA7:EA206*60+ROUNDDOWN(ED7:ED206/10,0)*10)),60),"00")} -> 0:00 | EQ20: 14 | ES20: 月 | EU20: 日 | FF20: 時間 | FI20: 分 | FK20: 3月 | FM20: {=INT(SUMPRODUCT((ER7:ER206=3)*(FD7:FD206*60+ROUNDDOWN(FG7:FG206/10,0)*10))/60)& ":" &TEXT(MOD(SUMPRODUCT((ER7:ER206=3)*(FD7:FD206*60+ROUNDDOWN(FG7:FG206/10,0)*10)),60),"00")} -> 0:00
B21: 15 | D21: 月 | F21: 日 | Q21: 時間 | T21: 分 | AE21: 15 | AG21: 月 | AI21: 日 | AT21: 時間 | AW21: 分 | BH21: 15 | BJ21: 月 | BL21: 日 | BW21: 時間 | BZ21: 分 | CK21: 15 | CM21: 月 | CO21: 日 | CZ21: 時間 | DC21: 分 | DN21: 15 | DP21: 月 | DR21: 日 | EC21: 時間 | EF21: 分 | EQ21: 15 | ES21: 月 | EU21: 日 | FF21: 時間 | FI21: 分
B22: 16 | D22: 月 | F22: 日 | Q22: 時間 | T22: 分 | AE22: 16 | AG22: 月 | AI22: 日 | AT22: 時間 | AW22: 分 | BH22: 16 | BJ22: 月 | BL22: 日 | BW22: 時間 | BZ22: 分 | CK22: 16 | CM22: 月 | CO22: 日 | CZ22: 時間 | DC22: 分 | DN22: 16 | DP22: 月 | DR22: 日 | EC22: 時間 | EF22: 分 | EQ22: 16 | ES22: 月 | EU22: 日 | FF22: 時間 | FI22: 分
B23: 17 | D23: 月 | F23: 日 | Q23: 時間 | T23: 分 | AE23: 17 | AG23: 月 | AI23: 日 | AT23: 時間 | AW23: 分 | BH23: 17 | BJ23: 月 | BL23: 日 | BW23: 時間 | BZ23: 分 | CK23: 17 | CM23: 月 | CO23: 日 | CZ23: 時間 | DC23: 分 | DN23: 17 | DP23: 月 | DR23: 日 | EC23: 時間 | EF23: 分 | EQ23: 17 | ES23: 月 | EU23: 日 | FF23: 時間 | FI23: 分
B24: 18 | D24: 月 | F24: 日 | Q24: 時間 | T24: 分 | AE24: 18 | AG24: 月 | AI24: 日 | AT24: 時間 | AW24: 分 | BH24: 18 | BJ24: 月 | BL24: 日 | BW24: 時間 | BZ24: 分 | CK24: 18 | CM24: 月 | CO24: 日 | CZ24: 時間 | DC24: 分 | DN24: 18 | DP24: 月 | DR24: 日 | EC24: 時間 | EF24: 分 | EQ24: 18 | ES24: 月 | EU24: 日 | FF24: 時間 | FI24: 分
B25: 19 | D25: 月 | F25: 日 | Q25: 時間 | T25: 分 | AE25: 19 | AG25: 月 | AI25: 日 | AT25: 時間 | AW25: 分 | BH25: 19 | BJ25: 月 | BL25: 日 | BW25: 時間 | BZ25: 分 | CK25: 19 | CM25: 月 | CO25: 日 | CZ25: 時間 | DC25: 分 | DN25: 19 | DP25: 月 | DR25: 日 | EC25: 時間 | EF25: 分 | EQ25: 19 | ES25: 月 | EU25: 日 | FF25: 時間 | FI25: 分
B26: 20 | D26: 月 | F26: 日 | Q26: 時間 | T26: 分 | AE26: 20 | AG26: 月 | AI26: 日 | AT26: 時間 | AW26: 分 | BH26: 20 | BJ26: 月 | BL26: 日 | BW26: 時間 | BZ26: 分 | CK26: 20 | CM26: 月 | CO26: 日 | CZ26: 時間 | DC26: 分 | DN26: 20 | DP26: 月 | DR26: 日 | EC26: 時間 | EF26: 分 | EQ26: 20 | ES26: 月 | EU26: 日 | FF26: 時間 | FI26: 分
B27: 21 | D27: 月 | F27: 日 | Q27: 時間 | T27: 分 | AE27: 21 | AG27: 月 | AI27: 日 | AT27: 時間 | AW27: 分 | BH27: 21 | BJ27: 月 | BL27: 日 | BW27: 時間 | BZ27: 分 | CK27: 21 | CM27: 月 | CO27: 日 | CZ27: 時間 | DC27: 分 | DN27: 21 | DP27: 月 | DR27: 日 | EC27: 時間 | EF27: 分 | EQ27: 21 | ES27: 月 | EU27: 日 | FF27: 時間 | FI27: 分
B28: 22 | D28: 月 | F28: 日 | Q28: 時間 | T28: 分 | AE28: 22 | AG28: 月 | AI28: 日 | AT28: 時間 | AW28: 分 | BH28: 22 | BJ28: 月 | BL28: 日 | BW28: 時間 | BZ28: 分 | CK28: 22 | CM28: 月 | CO28: 日 | CZ28: 時間 | DC28: 分 | DN28: 22 | DP28: 月 | DR28: 日 | EC28: 時間 | EF28: 分 | EQ28: 22 | ES28: 月 | EU28: 日 | FF28: 時間 | FI28: 分
B29: 23 | D29: 月 | F29: 日 | Q29: 時間 | T29: 分 | AE29: 23 | AG29: 月 | AI29: 日 | AT29: 時間 | AW29: 分 | BH29: 23 | BJ29: 月 | BL29: 日 | BW29: 時間 | BZ29: 分 | CK29: 23 | CM29: 月 | CO29: 日 | CZ29: 時間 | DC29: 分 | DN29: 23 | DP29: 月 | DR29: 日 | EC29: 時間 | EF29: 分 | EQ29: 23 | ES29: 月 | EU29: 日 | FF29: 時間 | FI29: 分
B30: 24 | D30: 月 | F30: 日 | Q30: 時間 | T30: 分 | AE30: 24 | AG30: 月 | AI30: 日 | AT30: 時間 | AW30: 分 | BH30: 24 | BJ30: 月 | BL30: 日 | BW30: 時間 | BZ30: 分 | CK30: 24 | CM30: 月 | CO30: 日 | CZ30: 時間 | DC30: 分 | DN30: 24 | DP30: 月 | DR30: 日 | EC30: 時間 | EF30: 分 | EQ30: 24 | ES30: 月 | EU30: 日 | FF30: 時間 | FI30: 分
B31: 25 | D31: 月 | F31: 日 | Q31: 時間 | T31: 分 | AE31: 25 | AG31: 月 | AI31: 日 | AT31: 時間 | AW31: 分 | BH31: 25 | BJ31: 月 | BL31: 日 | BW31: 時間 | BZ31: 分 | CK31: 25 | CM31: 月 | CO31: 日 | CZ31: 時間 | DC31: 分 | DN31: 25 | DP31: 月 | DR31: 日 | EC31: 時間 | EF31: 分 | EQ31: 25 | ES31: 月 | EU31: 日 | FF31: 時間 | FI31: 分
B32: 26 | D32: 月 | F32: 日 | Q32: 時間 | T32: 分 | AE32: 26 | AG32: 月 | AI32: 日 | AT32: 時間 | AW32: 分 | BH32: 26 | BJ32: 月 | BL32: 日 | BW32: 時間 | BZ32: 分 | CK32: 26 | CM32: 月 | CO32: 日 | CZ32: 時間 | DC32: 分 | DN32: 26 | DP32: 月 | DR32: 日 | EC32: 時間 | EF32: 分 | EQ32: 26 | ES32: 月 | EU32: 日 | FF32: 時間 | FI32: 分
... B206: 200 | D206: 月 | F206: 日 | Q206: 時間 | T206: 分 | AE206: 200 | AG206: 月 | AI206: 日 | AT206: 時間 | AW206: 分 | BH206: 200 | BJ206: 月 | BL206: 日 | BW206: 時間 | BZ206: 分 | CK206: 200 | CM206: 月 | CO206: 日 | CZ206: 時間 | DC206: 分 | DN206: 200 | DP206: 月 | DR206: 日 | EC206: 時間 | EF206: 分 | EQ206: 200 | ES206: 月 | EU206: 日 | FF206: 時間 | FI206: 分

Sheet 【実績報告】別紙様式2
A1: （別紙様式２（訪問看護職員就労支援事業費補助金））
H2: 番号
H3: 令和 年 月 日
B5: 愛 知 県 知 事 殿
E7: （住所）
E8: 補助事業者名
E9: （代表者職名）
E10: （代表者氏名）
A12: 令和８年度訪問看護職員就労支援事業費補助金の実績報告について
A14: このことについて、下記のとおり関係書類を添えて報告します。
E16: 記
A18: １ | B18: 補助金精算額 | D18: 金 | E18: ='2-1'!J19 -> 0 | F18: 円
A20: ２ | B20: 所要額精算書（別紙２－１）
B21: 対象経費の支出済額明細書（別紙２－２）
B22: 事業実績報告明細書（別紙２－３）
B23: 歳入歳出決算書（別紙２－４）
A25: ３ | B25: 添付書類
B26: その他参考資料

Sheet 2-1
A1: 別紙２－１（訪問看護職員就労支援事業費補助金）
B3: 令和８年度 訪問看護職員就労支援事業所要額精算書
I5: 補助事業者名 | J5: =IF(【実績報告】別紙様式2!F8="","",【実績報告】別紙様式2!F8)
F7: 基 準 額
A8: 事業所名 | B8: 総事業費 | C8: 寄附金 その他の 収入額 | D8: 差引額 （Ａ－Ｂ） | E8: 対象経費の 支出済額 | H8: 選定額 | I8: 補助基本額 | J8: 補助所要額 | K8: 補助金交付 決定額 | L8: 補助金 受入額 | M8: 差引 過不足額 | N8: 備考
F9: 新人訪問 看護職員 数
G10: 計
B11: (A) | C11: (B) | D11: (C) | E11: (D) | H11: (F) | I11: (G) | J11: (H) | K11: (I) | L11: (J) | M11: (I)－(J)＝(K)
G12: (E) | J12: ×1/2
B13: 円 | C13: 円 | D13: 円 | E13: 円 | F13: 人 | G13: 円 | H13: 円 | I13: 円 | J13: 円 | K13: 円 | L13: 円 | M13: 円
D14: =B14-C14 -> 0 | E14: ='2-2 '!B87 -> 0 | G14: =F14*180000 -> 0 | H14: =MIN(E14,G14) -> 0 | I14: =MIN(D14,H14) -> 0 | J14: =ROUNDDOWN(I14/2,-3) -> 0 | K14: =J14 -> 0 | L14: 0 | M14: =K14-L14 -> 0
D15: =B15-C15 -> 0 | G15: =F15*180000 -> 0 | H15: =MIN(E15,G15) -> 0 | I15: =MIN(D15,H15) -> 0 | J15: =ROUNDDOWN(I15/2,-3) -> 0 | K15: =J15 -> 0 | L15: 0 | M15: =K15-L15 -> 0
D16: =B16-C16 -> 0 | G16: =F16*180000 -> 0 | H16: =MIN(E16,G16) -> 0 | I16: =MIN(D16,H16) -> 0 | J16: =ROUNDDOWN(I16/2,-3) -> 0 | K16: =J16 -> 0 | L16: 0 | M16: =K16-L16 -> 0
D17: =B17-C17 -> 0 | G17: =F17*180000 -> 0 | H17: =MIN(E17,G17) -> 0 | I17: =MIN(D17,H17) -> 0 | J17: =ROUNDDOWN(I17/2,-3) -> 0 | K17: =J17 -> 0 | L17: 0 | M17: =K17-L17 -> 0
D18: =B18-C18 -> 0 | G18: =F18*180000 -> 0 | H18: =MIN(E18,G18) -> 0 | I18: =MIN(D18,H18) -> 0 | J18: =ROUNDDOWN(I18/2,-3) -> 0 | K18: =J18 -> 0 | L18: 0 | M18: =K18-L18 -> 0
A19: 合計 | B19: =SUM(B14:B18) -> 0 | C19: =SUM(C14:C18) -> 0 | D19: =SUM(D14:D18) -> 0 | E19: =SUM(E14:E18) -> 0 | F19: =SUM(F14:F18) -> 0 | G19: =SUM(G14:G18) -> 0 | H19: =SUM(H14:H18) -> 0 | I19: =SUM(I14:I18) -> 0 | ... M19: =SUM(M14:M18) -> 0
A21: (注)１ F欄にはD欄とE欄のいずれか低い方の額を記入すること。
A22: ２ G欄にはC欄とＦ欄とを比較して、いずれか低い方の額を記入すること。
A23: ３ H欄にはG欄の金額に１／２を乗じた金額（ただし、1,000円未満の端数が生じた場合には、これを切り捨てるものとする。）を記入すること。

Sheet 2-2 
A1: 別紙２－２（訪問看護職員就労支援事業費補助金）
A3: 対象経費の支出済額明細書
Q5: 事業所名 | V5: ='2-1'!A14 -> 0
A7: 区分 | B7: 補助対象経費
B8: 支出済額 | D8: 算出内訳
C9: 円
A10: 人件費 | B10: =IFERROR(Y19,0) -> 0 | E10: 研修受講者① 氏名：
A11: 給与 | F11: 月給
G12: 基本給 | AE12: 円
G13: 看護職であるために支給される手当 | AE13: 円
G14: 計 | Y14: =SUM(Y12:AD13) -> 0 | AE14: 円
F15: 一日当たりの勤務時間数 | AE15: ｈ
F16: 一月当たりの勤務日数 | AE16: 日
F17: 時給 | Y17: =ROUNDDOWN(Y14/(Y15*Y16),0) -> #DIV/0! | AE17: 円
F18: 研修時間計 | Y18: =研修記録!V7 -> 0
T19: 補助対象経費 | Y19: =ROUNDDOWN(Y17*Y18*24,0) -> #DIV/0! | AE19: 円
B23: =IFERROR(Y32,0) -> 0 | E23: 研修受講者② 氏名：
F24: 月給
G25: 基本給 | AE25: 円
G26: 看護職であるために支給される手当 | AE26: 円
G27: 計 | Y27: =SUM(Y25:AD26) -> 0 | AE27: 円
F28: 一日当たりの勤務時間数 | AE28: ｈ
F29: 一月当たりの勤務日数 | AE29: 日
F30: 時給 | Y30: =ROUNDDOWN(Y27/(Y28*Y29),0) -> #DIV/0! | AE30: 円
F31: 研修時間計 | Y31: =研修記録!AY7 -> 0
T32: 補助対象経費 | Y32: =ROUNDDOWN(Y30*Y31*24,0) -> #DIV/0! | AE32: 円
B36: =IFERROR(Y45,0) -> 0 | E36: 研修受講者③ 氏名：
F37: 月給
G38: 基本給 | AE38: 円
G39: 看護職であるために支給される手当 | AE39: 円
G40: 計 | Y40: =SUM(Y38:AD39) -> 0 | AE40: 円
F41: 一日当たりの勤務時間数 | AE41: ｈ
F42: 一月当たりの勤務日数 | AE42: 日
F43: 時給 | Y43: =ROUNDDOWN(Y40/(Y41*Y42),0) -> #DIV/0! | AE43: 円
F44: 研修時間計 | Y44: =研修記録!CB7 -> 0
T45: 補助対象経費 | Y45: =ROUNDDOWN(Y43*Y44*24,0) -> #DIV/0! | AE45: 円
B49: =IFERROR(Y58,0) -> 0 | E49: 研修受講者④ 氏名：
F50: 月給
G51: 基本給 | AE51: 円
G52: 看護職であるために支給される手当 | AE52: 円
...

Sheet 2-3
A1: 別紙２－３（訪問看護職員就労支援事業費補助金） | R1: （1枚中1枚）
A3: 事業実績報告明細書
L5: 事業所名 | O5: ='2-2 '!V5 -> 0
A7: 受講者名
A8: 研修期間 | E8: 年 | G8: 月 | I8: 日 | J8: ～ | L8: 年 | N8: 月 | P8: 日
A9: 就労開始日 | E9: 年 | G9: 月 | I9: 日
A11: 研修内容 | Q11: 研修時間 | R11: 研修指導者
A31: 合計 | Q31: =SUM(Q12:Q30) -> 0
A32: 受講者１名につき、本紙を１枚作成すること。
A33: 研修時間には、訪問先での研修に必要な移動時間を含むことができる。
A34: 研修時間には、休憩時間は含まない。
N37: 時間計算 | Q37: =Q31*24 -> 0

Sheet 2-4
A1: （別紙様式２－４（訪問看護職員就労支援事業費補助金））
A3: =IF(B28='集計作業シート【入力不要。削除しないでください。】'!C5,"令和８年度歳入歳出決算書","令和８年度歳入歳出決算見込書") -> 令和８年度歳入歳出決算見込書
F5: 補助事業者名 | G5: =IF(【実績報告】別紙様式2!F8="","",【実績報告】別紙様式2!F8)
A6: 歳入
B7: 款 | C7: 項 | D7: 目 | E7: 予算現額 A | F7: 節 | H7: 収入済額 B | I7: 差引額 Ａ－Ｂ | J7: 備考
F8: 区分 | G8: 金額
E9: 円 | G9: 円 | H9: 円 | I9: 円
I10: =IF(E10="","",E10-H10)
I11: =IF(E11="","",E11-H11)
I12: =IF(E12="","",E12-H12)
I13: =IF(E13="","",E13-H13)
A17: 歳出
B18: 款 | C18: 項 | D18: 目 | E18: 予算現額 A | F18: 節 | H18: 支出済額 C | I18: 不用額 | J18: Cのうち 補助対象 事業分 | K18: 備考
F19: 区分 | G19: 金額
E20: 円 | G20: 円 | H20: 円 | I20: 円 | J20: 円
B27: 証明について
B28: （決算見込書の場合） | D28: =IF(B28='集計作業シート【入力不要。削除しないでください。】'!C5,"原本と相違ないことを証明します。","決算見込みに相違ありません。") -> 決算見込みに相違ありません。
C29: =IF(【実績報告】別紙様式2!F8="","",【実績報告】別紙様式2!F8)
C30: 代表者職名 | D30: =IF(【実績報告】別紙様式2!F9="","",【実績報告】別紙様式2!F9)
C31: 代表者氏名 | D31: =IF(【実績報告】別紙様式2!F10="","",【実績報告】別紙様式2!F10)

Sheet 請求書
I2: 令和９年 月 日
A4: 請 求 書
B6: 愛 知 県 知 事 殿
F8: 住所 | H8: =IF(【実績報告】別紙様式2!F7="","",【実績報告】別紙様式2!F7)
F9: 補助事業者名 | H9: =IF(【実績報告】別紙様式2!F8="","",【実績報告】別紙様式2!F8)
F10: 代表者職名 | H10: =IF(【実績報告】別紙様式2!F9="","",【実績報告】別紙様式2!F9)
F11: 代表者氏名 | H11: =IF(【実績報告】別紙様式2!F10="","",【実績報告】別紙様式2!F10)
D13: 金 | E13: =【実績報告】別紙様式2!E18 -> 0 | I13: 円
B15: 上記の金額を請求します。
B16: ただし、令和８年度訪問看護職員就労支援事業費補助金として
B18: 口座 振替 | C18: 【金融機関名・支店名】 | F18: ●●銀行（金庫）・●●店
C19: 【口座番号】 | F19: 普通 | H19: 第●●●●●●●号
C20: 【口座名義（カナ）】 | F20: ●●●● ●●●

Sheet 【変更交付】別紙様式1
A1: （別紙様式１（訪問看護職員就労支援事業費補助金））
H2: 番号
H3: 46477
B5: 愛 知 県 知 事 殿
E7: （住所） | F7: =IF(【実績報告】別紙様式2!F7="","",【実績報告】別紙様式2!F7)
E8: 補助事業者名 | F8: =IF(【実績報告】別紙様式2!F8="","",【実績報告】別紙様式2!F8)
E9: （代表者職名） | F9: =IF(【実績報告】別紙様式2!F9="","",【実績報告】別紙様式2!F9)
E10: （代表者氏名） | F10: =IF(【実績報告】別紙様式2!F10="","",【実績報告】別紙様式2!F10)
A12: 令和８年度訪問看護職員就労支援事業費補助金の変更交付申請について
A14: このことについて、下記のとおり関係書類を添えて申請します。
E16: 記
A18: １ | B18: 申請額 | D18: 金 | E18: ='1-1'!J19 -> 0 | F18: 円
A20: ２ | B20: 事業所要額調書（別紙１－１）
B21: 対象経費の支出予定額明細書（別紙１－２）
B22: 事業計画明細書（別紙１－３）
B23: 歳入歳出予算書（別紙１－４）
A25: ３ | B25: 添付書類
B26: その他参考資料

Sheet 1-1
A1: 別紙１－１（訪問看護職員就労支援事業費補助金）
B3: 令和８年度 訪問看護職員就労支援事業所要額調書
H5: 補助事業者名 | I5: =IF(【変更交付】別紙様式1!F8="","",【変更交付】別紙様式1!F8)
F7: 基 準 額
A8: 事業所名 | B8: 総事業費 | C8: 寄附金 その他の 収入額 | D8: 差引額 （Ａ－Ｂ） | E8: 対象経費の 支出予定額 | H8: 選定額 | I8: 補助基本額 | J8: 補助所要額 | K8: 備考
F9: 新人訪問 看護職員 数
G10: 計
B11: (A) | C11: (B) | D11: (C) | E11: (D) | H11: (F) | I11: (G) | J11: (H)
G12: (E) | J12: ×1/2
B13: 円 | C13: 円 | D13: 円 | E13: 円 | F13: 人 | G13: 円 | H13: 円 | I13: 円 | J13: 円
A14: =IF('2-1'!A14="","",'2-1'!A14) | B14: ='2-1'!B14 -> 0 | C14: ='2-1'!C14 -> 0 | D14: =B14-C14 -> 0 | E14: ='1-2'!B87 -> 0 | F14: ='2-1'!F14 -> 0 | G14: =F14*180000 -> 0 | H14: =MIN(E14,G14) -> 0 | I14: =MIN(D14,H14) -> 0 | J14: =ROUNDDOWN(I14/2,-3) -> 0
A15: =IF('2-1'!A15="","",'2-1'!A15) | B15: ='2-1'!B15 -> 0 | C15: ='2-1'!C15 -> 0 | D15: =B15-C15 -> 0 | E15: ='2-1'!E15 -> 0 | F15: ='2-1'!F15 -> 0 | G15: =F15*180000 -> 0 | H15: =MIN(E15,G15) -> 0 | I15: =MIN(D15,H15) -> 0 | J15: =ROUNDDOWN(I15/2,-3) -> 0
A16: =IF('2-1'!A16="","",'2-1'!A16) | B16: ='2-1'!B16 -> 0 | C16: ='2-1'!C16 -> 0 | D16: =B16-C16 -> 0 | E16: ='2-1'!E16 -> 0 | F16: ='2-1'!F16 -> 0 | G16: =F16*180000 -> 0 | H16: =MIN(E16,G16) -> 0 | I16: =MIN(D16,H16) -> 0 | J16: =ROUNDDOWN(I16/2,-3) -> 0
A17: =IF('2-1'!A17="","",'2-1'!A17) | B17: ='2-1'!B17 -> 0 | C17: ='2-1'!C17 -> 0 | D17: =B17-C17 -> 0 | E17: ='2-1'!E17 -> 0 | F17: ='2-1'!F17 -> 0 | G17: =F17*180000 -> 0 | H17: =MIN(E17,G17) -> 0 | I17: =MIN(D17,H17) -> 0 | J17: =ROUNDDOWN(I17/2,-3) -> 0
A18: =IF('2-1'!A18="","",'2-1'!A18) | B18: ='2-1'!B18 -> 0 | C18: ='2-1'!C18 -> 0 | D18: =B18-C18 -> 0 | E18: ='2-1'!E18 -> 0 | F18: ='2-1'!F18 -> 0 | G18: =F18*180000 -> 0 | H18: =MIN(E18,G18) -> 0 | I18: =MIN(D18,H18) -> 0 | J18: =ROUNDDOWN(I18/2,-3) -> 0
A19: 合計 | B19: =SUM(B14:B18) -> 0 | C19: =SUM(C14:C18) -> 0 | D19: =SUM(D14:D18) -> 0 | E19: =SUM(E14:E18) -> 0 | F19: =SUM(F14:F18) -> 0 | G19: =SUM(G14:G18) -> 0 | H19: =SUM(H14:H18) -> 0 | I19: =SUM(I14:I18) -> 0 | J19: =SUM(J14:J18) -> 0
A21: (注)１ F欄にはD欄とE欄のいずれか低い方の額を記入すること。
A22: ２ G欄にはC欄とＦ欄とを比較して、いずれか低い方の額を記入すること。
A23: ３ H欄にはG欄の金額に１／２を乗じた金額（ただし、1,000円未満の端数が生じた場合には、これを切り捨てるものとする。）を記入すること。

Sheet 1-2
A1: 別紙１－２（訪問看護職員就労支援事業費補助金）
A3: 対象経費の支出予定額明細書
Q5: 事業所名 | V5: ='1-1'!A14
A7: 区分 | B7: 補助対象経費
B8: 支出済額 | D8: 算出内訳
C9: 円
A10: 人件費 | B10: =IFERROR(Y19,0) -> 0 | E10: 研修受講者① 氏名： | K10: ='2-2 '!K10 -> 0
A11: 給与 | F11: 月給
G12: 基本給 | Y12: ='2-2 '!Y12 -> 0 | AE12: 円
G13: 看護職であるために支給される手当 | Y13: ='2-2 '!Y13 -> 0 | AE13: 円
G14: 計 | Y14: =SUM(Y12:AD13) -> 0 | AE14: 円
F15: 一日当たりの勤務時間数 | Y15: ='2-2 '!Y15 -> 0 | AE15: ｈ
F16: 一月当たりの勤務日数 | Y16: ='2-2 '!Y16 -> 0 | AE16: 日
F17: 時給 | Y17: =ROUNDDOWN(Y14/(Y15*Y16),0) -> #DIV/0! | AE17: 円
F18: 研修時間計 | Y18: =研修記録!V7 -> 0
T19: 補助対象経費 | Y19: =ROUNDDOWN(Y17*Y18*24,0) -> #DIV/0! | AE19: 円
B23: =IFERROR(Y32,0) -> 0 | E23: 研修受講者② 氏名： | K23: ='2-2 '!K23 -> 0
F24: 月給
G25: 基本給 | Y25: ='2-2 '!Y25 -> 0 | AE25: 円
G26: 看護職であるために支給される手当 | Y26: ='2-2 '!Y26 -> 0 | AE26: 円
G27: 計 | Y27: =SUM(Y25:AD26) -> 0 | AE27: 円
F28: 一日当たりの勤務時間数 | Y28: ='2-2 '!Y28 -> 0 | AE28: ｈ
F29: 一月当たりの勤務日数 | Y29: ='2-2 '!Y29 -> 0 | AE29: 日
F30: 時給 | Y30: =ROUNDDOWN(Y27/(Y28*Y29),0) -> #DIV/0! | AE30: 円
F31: 研修時間計 | Y31: =研修記録!AY7 -> 0
T32: 補助対象経費 | Y32: =ROUNDDOWN(Y30*Y31*24,0) -> #DIV/0! | AE32: 円
B36: =IFERROR(Y45,0) -> 0 | E36: 研修受講者③ 氏名： | K36: ='2-2 '!K36 -> 0
F37: 月給
G38: 基本給 | Y38: ='2-2 '!Y38 -> 0 | AE38: 円
G39: 看護職であるために支給される手当 | Y39: ='2-2 '!Y39 -> 0 | AE39: 円
G40: 計 | Y40: =SUM(Y38:AD39) -> 0 | AE40: 円
F41: 一日当たりの勤務時間数 | Y41: ='2-2 '!Y41 -> 0 | AE41: ｈ
F42: 一月当たりの勤務日数 | Y42: ='2-2 '!Y42 -> 0 | AE42: 日
F43: 時給 | Y43: =ROUNDDOWN(Y40/(Y41*Y42),0) -> #DIV/0! | AE43: 円
F44: 研修時間計 | Y44: =研修記録!CB7 -> 0
T45: 補助対象経費 | Y45: =ROUNDDOWN(Y43*Y44*24,0) -> #DIV/0! | AE45: 円
B49: =IFERROR(Y58,0) -> 0 | E49: 研修受講者④ 氏名： | K49: ='2-2 '!K49 -> 0
F50: 月給
G51: 基本給 | Y51: ='2-2 '!Y51 -> 0 | AE51: 円
G52: 看護職であるために支給される手当 | Y52: ='2-2 '!Y52 -> 0 | AE52: 円
...

Sheet 1-3
A1: 別紙１－３（訪問看護職員就労支援事業費補助金） | R1: （1枚中1枚）
A3: 事業計画明細書
L5: 事業所名 | O5: ='1-1'!A14
A7: 受講者名
A8: 研修予定期間 | E8: 年 | G8: 月 | I8: 日 | J8: ～ | L8: 年 | N8: 月 | P8: 日
A9: 就労開始日 | E9: 年 | G9: 月 | I9: 日
A11: 研修内容 | Q11: 研修予定時間 | R11: 予定研修指導者
A31: 合計 | Q31: =SUM(Q12:Q30) -> 0
A32: 受講者１名につき、本紙を１枚作成すること。
A33: 研修時間には、訪問先での研修に必要な移動時間を含むことができる。
A34: 研修時間には、休憩時間は含まない。
N37: 時間計算 | Q37: =Q31*24 -> 0

Sheet 1-4
A1: （別紙様式１－４（訪問看護職員就労支援事業費補助金））
A3: =IF(B28='集計作業シート【入力不要。削除しないでください。】'!C5,"令和８年度歳入歳出予算書抄本","令和８年度歳入歳出予算書抄本") -> 令和８年度歳入歳出予算書抄本
F5: 補助事業者名 | G5: =IF(【変更交付】別紙様式1!F8="","",【変更交付】別紙様式1!F8)
A6: 歳入
B7: 款 | C7: 項 | D7: 目 | E7: 予算現額 A | F7: 節 | H7: 説明
F8: 区分 | G8: 金額
E9: 円 | G9: 円
B10: =IF('2-4'!B10="","",'2-4'!B10) | C10: =IF('2-4'!C10="","",'2-4'!C10) | D10: =IF('2-4'!D10="","",'2-4'!D10) | E10: =IF('2-4'!E10="","",'2-4'!E10) | F10: =IF('2-4'!F10="","",'2-4'!F10) | G10: =IF('2-4'!G10="","",'2-4'!G10) | H10: =IF('2-4'!J10="","",'2-4'!J10)
B11: =IF('2-4'!B11="","",'2-4'!B11) | C11: =IF('2-4'!C11="","",'2-4'!C11) | D11: =IF('2-4'!D11="","",'2-4'!D11) | E11: =IF('2-4'!E11="","",'2-4'!E11) | F11: =IF('2-4'!F11="","",'2-4'!F11) | G11: =IF('2-4'!G11="","",'2-4'!G11) | H11: =IF('2-4'!J11="","",'2-4'!J11)
B12: =IF('2-4'!B12="","",'2-4'!B12) | C12: =IF('2-4'!C12="","",'2-4'!C12) | D12: =IF('2-4'!D12="","",'2-4'!D12) | E12: =IF('2-4'!E12="","",'2-4'!E12) | F12: =IF('2-4'!F12="","",'2-4'!F12) | G12: =IF('2-4'!G12="","",'2-4'!G12) | H12: =IF('2-4'!J12="","",'2-4'!J12)
B13: =IF('2-4'!B13="","",'2-4'!B13) | C13: =IF('2-4'!C13="","",'2-4'!C13) | D13: =IF('2-4'!D13="","",'2-4'!D13) | E13: =IF('2-4'!E13="","",'2-4'!E13) | F13: =IF('2-4'!F13="","",'2-4'!F13) | G13: =IF('2-4'!G13="","",'2-4'!G13) | H13: =IF('2-4'!J13="","",'2-4'!J13)
A17: 歳出
B18: 款 | C18: 項 | D18: 目 | E18: 予算現額 A | F18: 節 | H18: 説明
F19: 区分 | G19: 金額
E20: 円 | G20: 円
B21: =IF('2-4'!B21="","",'2-4'!B21) | C21: =IF('2-4'!C21="","",'2-4'!C21) | D21: =IF('2-4'!D21="","",'2-4'!D21) | E21: =IF('2-4'!E21="","",'2-4'!E21) | F21: =IF('2-4'!F21="","",'2-4'!F21) | G21: =IF('2-4'!G21="","",'2-4'!G21) | H21: =IF('2-4'!K21="","",'2-4'!K21)
B22: =IF('2-4'!B22="","",'2-4'!B22) | C22: =IF('2-4'!C22="","",'2-4'!C22) | D22: =IF('2-4'!D22="","",'2-4'!D22) | E22: =IF('2-4'!E22="","",'2-4'!E22) | F22: =IF('2-4'!F22="","",'2-4'!F22) | G22: =IF('2-4'!G22="","",'2-4'!G22) | H22: =IF('2-4'!K22="","",'2-4'!K22)
B23: =IF('2-4'!B23="","",'2-4'!B23) | C23: =IF('2-4'!C23="","",'2-4'!C23) | D23: =IF('2-4'!D23="","",'2-4'!D23) | E23: =IF('2-4'!E23="","",'2-4'!E23) | F23: =IF('2-4'!F23="","",'2-4'!F23) | G23: =IF('2-4'!G23="","",'2-4'!G23) | H23: =IF('2-4'!K23="","",'2-4'!K23)
B24: =IF('2-4'!B24="","",'2-4'!B24) | C24: =IF('2-4'!C24="","",'2-4'!C24) | D24: =IF('2-4'!D24="","",'2-4'!D24) | E24: =IF('2-4'!E24="","",'2-4'!E24) | F24: =IF('2-4'!F24="","",'2-4'!F24) | G24: =IF('2-4'!G24="","",'2-4'!G24) | H24: =IF('2-4'!K24="","",'2-4'!K24)
D28: 原本と相違ないことを証明します。
C29: =IF(【変更交付】別紙様式1!F8="","",【変更交付】別紙様式1!F8)
C30: 代表者職名 | D30: =IF(【変更交付】別紙様式1!F9="","",【変更交付】別紙様式1!F9)
C31: 代表者氏名 | D31: =IF(【変更交付】別紙様式1!F10="","",【変更交付】別紙様式1!F10)
B33: （注）節の金額が他の事業を含む場合は、当該補助対象事業分を説明欄に記入すること。

Sheet 集計作業シート【入力不要。削除しないでください。】
C4: 別紙2-4 作業用セル
C5: （決算書の場合）
C6: （決算見込書の場合）
C8: 【実績報告】
C9: 補助事業者名 | D9: 代表者職名 | E9: 代表者氏名 | F9: 文書番号 | G9: 日付 | H9: 補助金精算額
C10: =【実績報告】別紙様式2!F8 -> 0 | D10: =【実績報告】別紙様式2!F9 -> 0 | E10: =【実績報告】別紙様式2!F10 -> 0 | F10: =【実績報告】別紙様式2!H2 -> 番号 | G10: =【実績報告】別紙様式2!H3 -> 令和 年 月 日 | H10: =【実績報告】別紙様式2!E18 -> 0
C12: 【変更交付】
C13: 補助事業者名 | D13: 代表者職名 | E13: 代表者氏名 | F13: 文書番号 | G13: 日付 | H13: 交付決定額 | I13: 変更後交付予定額 | J13: 変更後交付増減額
C14: =【変更交付】別紙様式1!F8 | D14: =【変更交付】別紙様式1!F9 | E14: =【変更交付】別紙様式1!F10 | F14: =【変更交付】別紙様式1!H2 -> 番号 | G14: =【変更交付】別紙様式1!H3 -> 46477 | I14: =【変更交付】別紙様式1!E18 -> 0
C16: 研修記録 選択職種
C17: 看護師
C18: 准看護師
C19: 保健師
C20: 助産師
C23: 請求書
C24: 普通
C25: 当座
