Workbook

Sheet 総括表
B1: 令和6年度 財政状況資料集
B2: 総括表（市町村）
B3: 都道府県名 | L3: 愛知県 | W3: 市町村類型 | AC3: Ⅴ－１ | AM3: 指定団体等の指定状況 | AY3: 区分 | BN3: 令和6年度(千円) | BV3: 令和5年度(千円) | CD3: 区分 | CT3: 令和6年度(千円･％) | DB3: 令和5年度(千円･％)
AY4: 歳入総額 | BN4: 11369636 | BV4: 12281030 | CD4: 実質収支比率 | CT4: 3.8 | DB4: 4.5
AM5: 財政健全化等 | AU5: × | AY5: 歳出総額 | BN5: 10833452 | BV5: 11772382 | CD5: 経常収支比率 | CT5: 77.6 | DB5: 74.8
B6: 市町村名 | L6: 大口町 | W6: 地方交付税種地 | AC6: 2-6 | AM6: 財源超過 | AU6: ○ | AY6: 歳入歳出差引 | BN6: 536184 | BV6: 508648 | CD6: (※1) | CT6: 77.6 | DB6: 74.8
AM7: 首都 | AU7: × | AY7: 翌年度に繰越すべき財源 | BN7: 237226 | BV7: 185043 | CD7: 標準財政規模 | CT7: 7955419 | DB7: 7173927
AM8: 近畿 | AU8: × | AY8: 実質収支 | BN8: 298958 | BV8: 323605 | CD8: 財政力指数 | CT8: 1.2 | DB8: 1.11
B9: 人口 | L9: 令和2年国調(人) | R9: 24305 | W9: 産業構造 (※5) | AM9: 中部 | AU9: ○ | AY9: 単年度収支 | BN9: -24647 | BV9: 61992 | CD9: 公債費負担比率 | CT9: 3.5 | DB9: 4.7
L10: 平成27年国調(人) | R10: 23274 | AM10: 過疎 | AU10: × | AY10: 積立金 | BN10: 567569 | BV10: 618561 | CD10: 健全化判断比率
L11: 増減率 (％) | R11: 4.4 | AM11: 山振 | AU11: × | AY11: 繰上償還金 | BN11: 0 | BV11: 0 | CD11: 実質赤字比率 | CT11: - | DB11: -
B12: 住民基本台帳人口 (※7) | L12: 令07.01.01(人) | R12: 24004 | W12: 区分 | AC12: 令和2年国調 | AH12: 平成27年国調 | AM12: 低開発 | AU12: × | AY12: 積立金取崩し額 | BN12: 277630 | BV12: 618442 | CD12: 連結実質赤字比率 | CT12: - | DB12: -
M13: うち日本人(人) | R13: 23087 | W13: 第1次 | AC13: 146 | AH13: 190 | AM13: 指数表選定 | AU13: ○ | AY13: 実質単年度収支 | BN13: 265292 | BV13: 62111 | CD13: 実質公債費比率 | CT13: 1.7 | DB13: 1.4
L14: 令06.01.01(人) | R14: 24212 | AC14: 1.2 | AH14: 1.7 | CD14: 将来負担比率 | CT14: - | DB14: -
M15: うち日本人(人) | R15: 23378 | W15: 第2次 | AC15: 4736 | AH15: 4550 | AY15: 基準財政収入額 | BN15: 6141044 | BV15: 5556185 | CD15: 資金不足比率 (※4)
L16: 増減率 (％) | R16: -0.9 | AC16: 39.5 | AH16: 40.1 | AY16: 基準財政需要額 | BN16: 4712350 | BV16: 4583114
M17: うち日本人(％) | R17: -1.2 | W17: 第3次 | AC17: 7097 | AH17: 6617 | AY17: 標準税収入額等 | BN17: 7955419 | BV17: 7173927
B18: 面積 (k㎡) | L18: 13.61 | AC18: 59.2 | AH18: 58.3 | AY18: 経常経費充当一般財源等 | BN18: 5978338 | BV18: 5667239
B19: 人口密度 (人/k㎡) | L19: 1786 | AY19: 歳入一般財源等 | BN19: 8708508 | BV19: 8836385
B20: 世帯数 (世帯) | L20: 9150
B21: 職員の状況 (※8)
B22: 特別職等 | E22: 区分 | L22: 定数 | Q22: 1人あたり平均 給料月額(百円) | W22: 一般職員等(※6) | Z22: 区分 | AH22: 職員数 (人) | AM22: 給料月額 (百円) | AS22: 1人あたり平均 給料月額(百円) | AY22: 地方債現在高 | BN22: 2770884 | BV22: 3044429
AY23: うち公的資金 | BN23: 2528384 | BV23: 2782429
E24: 市区町村長 | L24: 1 | Q24: 8850 | Z24: 一般職員 | AH24: 174 | AM24: 538356 | AS24: 3094 | AY24: 地方債現在高（臨時財政対策債除き） | BN24: 2643977 | BV24: 2865964
E25: 副市区町村長 | L25: 1 | Q25: 7080 | Z25: うち消防職員 | AH25: - | AM25: - | AS25: - | AY25: 債務負担行為額（支出予定額） | BN25: 22403 | BV25: 22429
E26: 教育長 | L26: 1 | Q26: 6630 | Z26: うち技能労務職員 | AH26: 4 | AM26: 8820 | AS26: 2205 | AY26: 収益事業収入 | BN26: - | BV26: -
E27: 議会議長 | L27: 1 | Q27: 3890 | Z27: 教育公務員 | AH27: 1 | AM27: * | AS27: * | AY27: 土地開発基金現在高 | BN27: 202982 | BV27: 201647
E28: 議会副議長 | L28: 1 | Q28: 3210 | Z28: 臨時職員 | AH28: - | AM28: - | AS28: - | AY28: 積立金 現在高 | BC28: 財政調整基金 | BN28: 3081655 | BV28: 2791716
E29: 議会議員 | L29: 13 | Q29: 2920 | Z29: 合計 | AH29: 175 | AM29: 542363 | AS29: 3099 | BC29: 減債基金 | BN29: - | BV29: -
W30: ラスパイレス指数 | AH30: 96.5 | BC30: その他特定目的基金 | BN30: 2112173 | BV30: 1824168
C32: 一般会計等の一覧 | U32: 事業会計の一覧 | AM32: 公営企業（法適）の一覧 | BE32: 公営企業（法非適）の一覧 | BW32: 関係する一部事務組合等一覧 | CO32: 地方公社・第三セクター等一覧
C33: 項番 | E33: 会計名 | U33: 項番 | W33: 会計名 | AM33: 項番 | AO33: 会計名 | BE33: 項番 | BG33: 会計名 | BW33: 項番 | BY33: 組合等名 | CO33: 項番 | CQ33: 団体名 | DG33: (※3)
C34: =IF(E34="","",1) -> 1 | E34: =IF('各会計、関係団体の財政状況及び健全化判断比率'!B7="","",'各会計、関係団体の財政状況及び健全化判断比率'!B7) -> 一般会計 | U34: =IF(W34="","",MAX(C34:D43)+1) -> 5 | W34: =IF('各会計、関係団体の財政状況及び健全化判断比率'!B28="","",'各会計、関係団体の財政状況及び健全化判断比率'!B28) -> 国民健康保険特別会計 | AM34: =IF(AO34="","",MAX(C34:D43,U34:V43)+1) -> 8 | AO34: =IF('各会計、関係団体の財政状況及び健全化判断比率'!B31="","",'各会計、関係団体の財政状況及び健全化判断比率'!B31) -> 下水道事業会計 | BE34: =IF(BG34="","",MAX(C34:D43,U34:V43,AM34:AN43)+1) | BW34: =IF(BY34="","",MAX(C34:D43,U34:V43,AM34:AN43,BE34:BF43)+1) -> 9 | BY34: =IF('各会計、関係団体の財政状況及び健全化判断比率'!B68="","",'各会計、関係団体の財政状況及び健全化判断比率'!B68) -> 愛知県市町村職員退職手当組合 | CO34: =IF(CQ34="","",MAX(C34:D43,U34:V43,AM34:AN43,BE34:BF43,BW34:BX43)+1) | CQ34: =IF('各会計、関係団体の財政状況及び健全化判断比率'!BS7="","",'各会計、関係団体の財政状況及び健全化判断比率'!BS7) | DG34: =IF('各会計、関係団体の財政状況及び健全化判断比率'!BR7="","",'各会計、関係団体の財政状況及び健全化判断比率'!BR7)
C35: =IF(E35="","",C34+1) -> 2 | E35: =IF('各会計、関係団体の財政状況及び健全化判断比率'!B8="","",'各会計、関係団体の財政状況及び健全化判断比率'!B8) -> 国際交流事業特別会計 | U35: =IF(W35="","",U34+1) -> 6 | W35: =IF('各会計、関係団体の財政状況及び健全化判断比率'!B29="","",'各会計、関係団体の財政状況及び健全化判断比率'!B29) -> 後期高齢者医療特別会計 | AM35: =IF(AO35="","",AM34+1) | BE35: =IF(BG35="","",BE34+1) | BW35: =IF(BY35="","",BW34+1) -> 10 | BY35: =IF('各会計、関係団体の財政状況及び健全化判断比率'!B69="","",'各会計、関係団体の財政状況及び健全化判断比率'!B69) -> 愛知県後期高齢者医療広域連合（一般会計） | CO35: =IF(CQ35="","",CO34+1) | CQ35: =IF('各会計、関係団体の財政状況及び健全化判断比率'!BS8="","",'各会計、関係団体の財政状況及び健全化判断比率'!BS8) | DG35: =IF('各会計、関係団体の財政状況及び健全化判断比率'!BR8="","",'各会計、関係団体の財政状況及び健全化判断比率'!BR8)
C36: =IF(E36="","",C35+1) -> 3 | E36: =IF('各会計、関係団体の財政状況及び健全化判断比率'!B9="","",'各会計、関係団体の財政状況及び健全化判断比率'!B9) -> 土地取得特別会計 | U36: =IF(W36="","",U35+1) -> 7 | W36: =IF('各会計、関係団体の財政状況及び健全化判断比率'!B30="","",'各会計、関係団体の財政状況及び健全化判断比率'!B30) -> 介護保険特別会計 | AM36: =IF(AO36="","",AM35+1) | BE36: =IF(BG36="","",BE35+1) | BW36: =IF(BY36="","",BW35+1) -> 11 | BY36: =IF('各会計、関係団体の財政状況及び健全化判断比率'!B70="","",'各会計、関係団体の財政状況及び健全化判断比率'!B70) -> 愛知県後期高齢者医療広域連合（後期高齢者医療特別会計） | CO36: =IF(CQ36="","",CO35+1) | CQ36: =IF('各会計、関係団体の財政状況及び健全化判断比率'!BS9="","",'各会計、関係団体の財政状況及び健全化判断比率'!BS9) | DG36: =IF('各会計、関係団体の財政状況及び健全化判断比率'!BR9="","",'各会計、関係団体の財政状況及び健全化判断比率'!BR9)
C37: =IF(E37="","",C36+1) -> 4 | E37: =IF('各会計、関係団体の財政状況及び健全化判断比率'!B10="","",'各会計、関係団体の財政状況及び健全化判断比率'!B10) -> 次世代育成事業特別会計 | U37: =IF(W37="","",U36+1) | AM37: =IF(AO37="","",AM36+1) | BE37: =IF(BG37="","",BE36+1) | BW37: =IF(BY37="","",BW36+1) -> 12 | BY37: =IF('各会計、関係団体の財政状況及び健全化判断比率'!B71="","",'各会計、関係団体の財政状況及び健全化判断比率'!B71) -> 丹羽広域事務組合（一般会計） | CO37: =IF(CQ37="","",CO36+1) | CQ37: =IF('各会計、関係団体の財政状況及び健全化判断比率'!BS10="","",'各会計、関係団体の財政状況及び健全化判断比率'!BS10) | DG37: =IF('各会計、関係団体の財政状況及び健全化判断比率'!BR10="","",'各会計、関係団体の財政状況及び健全化判断比率'!BR10)
C38: =IF(E38="","",C37+1) | E38: =IF('各会計、関係団体の財政状況及び健全化判断比率'!B11="","",'各会計、関係団体の財政状況及び健全化判断比率'!B11) | U38: =IF(W38="","",U37+1) | AM38: =IF(AO38="","",AM37+1) | BE38: =IF(BG38="","",BE37+1) | BW38: =IF(BY38="","",BW37+1) -> 13 | BY38: =IF('各会計、関係団体の財政状況及び健全化判断比率'!B72="","",'各会計、関係団体の財政状況及び健全化判断比率'!B72) -> 丹羽広域事務組合（公営企業会計） | CO38: =IF(CQ38="","",CO37+1) | CQ38: =IF('各会計、関係団体の財政状況及び健全化判断比率'!BS11="","",'各会計、関係団体の財政状況及び健全化判断比率'!BS11) | DG38: =IF('各会計、関係団体の財政状況及び健全化判断比率'!BR11="","",'各会計、関係団体の財政状況及び健全化判断比率'!BR11)
C39: =IF(E39="","",C38+1) | E39: =IF('各会計、関係団体の財政状況及び健全化判断比率'!B12="","",'各会計、関係団体の財政状況及び健全化判断比率'!B12) | U39: =IF(W39="","",U38+1) | AM39: =IF(AO39="","",AM38+1) | BE39: =IF(BG39="","",BE38+1) | BW39: =IF(BY39="","",BW38+1) -> 14 | BY39: =IF('各会計、関係団体の財政状況及び健全化判断比率'!B73="","",'各会計、関係団体の財政状況及び健全化判断比率'!B73) -> 江南丹羽環境管理組合 | CO39: =IF(CQ39="","",CO38+1) | CQ39: =IF('各会計、関係団体の財政状況及び健全化判断比率'!BS12="","",'各会計、関係団体の財政状況及び健全化判断比率'!BS12) | DG39: =IF('各会計、関係団体の財政状況及び健全化判断比率'!BR12="","",'各会計、関係団体の財政状況及び健全化判断比率'!BR12)
C40: =IF(E40="","",C39+1) | E40: =IF('各会計、関係団体の財政状況及び健全化判断比率'!B13="","",'各会計、関係団体の財政状況及び健全化判断比率'!B13) | U40: =IF(W40="","",U39+1) | AM40: =IF(AO40="","",AM39+1) | BE40: =IF(BG40="","",BE39+1) | BW40: =IF(BY40="","",BW39+1) -> 15 | BY40: =IF('各会計、関係団体の財政状況及び健全化判断比率'!B74="","",'各会計、関係団体の財政状況及び健全化判断比率'!B74) -> 尾張北部環境組合 | CO40: =IF(CQ40="","",CO39+1) | CQ40: =IF('各会計、関係団体の財政状況及び健全化判断比率'!BS13="","",'各会計、関係団体の財政状況及び健全化判断比率'!BS13) | DG40: =IF('各会計、関係団体の財政状況及び健全化判断比率'!BR13="","",'各会計、関係団体の財政状況及び健全化判断比率'!BR13)
C41: =IF(E41="","",C40+1) | E41: =IF('各会計、関係団体の財政状況及び健全化判断比率'!B14="","",'各会計、関係団体の財政状況及び健全化判断比率'!B14) | U41: =IF(W41="","",U40+1) | AM41: =IF(AO41="","",AM40+1) | BE41: =IF(BG41="","",BE40+1) | BW41: =IF(BY41="","",BW40+1) -> 16 | BY41: =IF('各会計、関係団体の財政状況及び健全化判断比率'!B75="","",'各会計、関係団体の財政状況及び健全化判断比率'!B75) -> 愛北広域事務組合 | CO41: =IF(CQ41="","",CO40+1) | CQ41: =IF('各会計、関係団体の財政状況及び健全化判断比率'!BS14="","",'各会計、関係団体の財政状況及び健全化判断比率'!BS14) | DG41: =IF('各会計、関係団体の財政状況及び健全化判断比率'!BR14="","",'各会計、関係団体の財政状況及び健全化判断比率'!BR14)
...

Sheet 普通会計の状況
DH1: 令和6年度 | DP1: 愛知県大口町
B2: (1) 普通会計の状況（市町村）
B3: 歳入の状況（単位 千円・％） | AP3: 地方税の状況（単位 千円・％） | CD3: 歳出の状況（単位 千円・％）
B4: 区分 | R4: 決算額 | Z4: 構成比 | AD4: 経常一般財源等 | AL4: 構成比 | AP4: 区分 | BG4: 収入済額 | BO4: 構成比 | BS4: 超過課税分 | CD4: 目的別歳出の状況（単位 千円・％）
B5: 地方税 | R5: 6203933 | Z5: 54.6 | AD5: 6203933 | AL5: 80.5 | AP5: 普通税 | BG5: 6203933 | BO5: 100 | BS5: - | CD5: 区分 | CR5: 決算額 (A) | CZ5: 構成比 | DD5: (A)のうち普通建設事業費 | DQ5: (A)のうち充当一般財源等
B6: 地方譲与税 | R6: 92782 | Z6: 0.8 | AD6: 92782 | AL6: 1.2 | AP6: 法定普通税 | BG6: 6203933 | BO6: 100 | BS6: - | CD6: 議会費 | CR6: 128005 | CZ6: 1.2 | DD6: - | DQ6: 128005
B7: 利子割交付金 | R7: 2244 | Z7: 0 | AD7: 2244 | AL7: 0 | AP7: 市町村民税 | BG7: 2326083 | BO7: 37.5 | BS7: - | CD7: 総務費 | CR7: 2065081 | CZ7: 19.1 | DD7: 83476 | DQ7: 1694108
B8: 配当割交付金 | R8: 46012 | Z8: 0.4 | AD8: 46012 | AL8: 0.6 | AP8: 個人均等割 | BG8: 40322 | BO8: 0.6 | BS8: - | CD8: 民生費 | CR8: 3932808 | CZ8: 36.3 | DD8: 260270 | DQ8: 2429183
B9: 株式等譲渡所得割交付金 | R9: 61108 | Z9: 0.5 | AD9: 61108 | AL9: 0.8 | AP9: 所得割 | BG9: 1396545 | BO9: 22.5 | BS9: - | CD9: 衛生費 | CR9: 855333 | CZ9: 7.9 | DD9: 14066 | DQ9: 765728
B10: 分離課税所得割交付金 | R10: - | Z10: - | AD10: - | AL10: - | AP10: 法人均等割 | BG10: 100778 | BO10: 1.6 | BS10: - | CD10: 労働費 | CR10: 3114 | CZ10: 0 | DD10: - | DQ10: 114
B11: 地方消費税交付金 | R11: 812935 | Z11: 7.2 | AD11: 812935 | AL11: 10.6 | AP11: 法人税割 | BG11: 788438 | BO11: 12.7 | BS11: - | CD11: 農林水産業費 | CR11: 120873 | CZ11: 1.1 | DD11: 50771 | DQ11: 99601
B12: ゴルフ場利用税交付金 | R12: - | Z12: - | AD12: - | AL12: - | AP12: 固定資産税 | BG12: 3617945 | BO12: 58.3 | BS12: - | CD12: 商工費 | CR12: 156044 | CZ12: 1.4 | DD12: 32170 | DQ12: 70129
B13: 自動車取得税交付金 | R13: 1357 | Z13: 0 | AD13: 1357 | AL13: 0 | AP13: うち純固定資産税 | BG13: 3602376 | BO13: 58.1 | BS13: - | CD13: 土木費 | CR13: 1594335 | CZ13: 14.7 | DD13: 918690 | DQ13: 1169663
B14: 軽油引取税交付金 | R14: - | Z14: - | AD14: - | AL14: - | AP14: 軽自動車税 | BG14: 74345 | BO14: 1.2 | BS14: - | CD14: 消防費 | CR14: 416510 | CZ14: 3.8 | DD14: 1705 | DQ14: 413749
B15: 自動車税環境性能割交付金 | R15: 26456 | Z15: 0.2 | AD15: 26456 | AL15: 0.3 | AP15: 市町村たばこ税 | BG15: 185560 | BO15: 3 | BS15: - | CD15: 教育費 | CR15: 1259048 | CZ15: 11.6 | DD15: 98043 | DQ15: 1099743
B16: 法人事業税交付金 | R16: 255723 | Z16: 2.2 | AD16: 255723 | AL16: 3.3 | AP16: 鉱産税 | BG16: - | BO16: - | BS16: - | CD16: 災害復旧費 | CR16: - | CZ16: - | DD16: - | DQ16: -
B17: 地方特例交付金等 | R17: 166282 | Z17: 1.5 | AD17: 166282 | AL17: 2.2 | AP17: 特別土地保有税 | BG17: - | BO17: - | BS17: - | CD17: 公債費 | CR17: 302301 | CZ17: 2.8 | DD17: - | DQ17: 302301
B18: 住宅借入金等特別税額控除減収補塡特例交付金 | R18: 35933 | Z18: 0.3 | AD18: 35933 | AL18: 0.5 | AP18: 法定外普通税 | BG18: - | BO18: - | BS18: - | CD18: 諸支出金 | CR18: - | CZ18: - | DD18: - | DQ18: -
B19: 定額減税減収補塡特例交付金 | R19: 119723 | Z19: 1.1 | AD19: 119723 | AL19: 1.6 | AP19: 目的税 | BG19: - | BO19: - | BS19: - | CD19: 前年度繰上充用金 | CR19: - | CZ19: - | DD19: - | DQ19: -
B20: 新型コロナウイルス感染症対策地方税減収補塡特別交付金 | R20: 10626 | Z20: 0.1 | AD20: 10626 | AL20: 0.1 | AP20: 法定目的税 | BG20: - | BO20: - | BS20: - | CD20: 歳出合計 | CR20: 10833452 | CZ20: 100 | DD20: 1459191 | DQ20: 8172324
B21: 地方交付税 | R21: 14652 | Z21: 0.1 | AD21: - | AL21: - | AP21: 入湯税 | BG21: - | BO21: - | BS21: -
B22: 普通交付税 | R22: - | Z22: - | AD22: - | AL22: - | AP22: 事業所税 | BG22: - | BO22: - | BS22: - | CD22: 性質別歳出の状況（単位 千円・％）
B23: 特別交付税 | R23: 14652 | Z23: 0.1 | AD23: - | AL23: - | AP23: 都市計画税 | BG23: - | BO23: - | BS23: - | CD23: 区分 | CR23: 決算額 | CZ23: 構成比 | DD23: 充当一般財源等 | DL23: 経常経費充当一般財源等 | DW23: 経常収支比率
B24: 震災復興特別交付税 | R24: - | Z24: - | AD24: - | AL24: - | AP24: 水利地益税等 | BG24: - | BO24: - | BS24: - | CD24: 義務的経費計 | CR24: 4424234 | CZ24: 40.8 | DD24: 3172511 | DL24: 2942303 | DW24: 38.2
B25: (一般財源計) | R25: 7683484 | Z25: 67.6 | AD25: 7668832 | AL25: 99.5 | AP25: 法定外目的税 | BG25: - | BO25: - | BS25: - | CD25: 人件費 | CR25: 2212509 | CZ25: 20.4 | DD25: 2002827 | DL25: 2000759 | DW25: 26
B26: 交通安全対策特別交付金 | R26: 4206 | Z26: 0 | AD26: 4206 | AL26: 0.1 | AP26: 旧法による税 | BG26: - | BO26: - | BS26: - | CD26: うち職員給 | CR26: 1046680 | CZ26: 9.7 | DD26: 915773 | DL26: - | DW26: -
B27: 分担金・負担金 | R27: 10458 | Z27: 0.1 | AD27: - | AL27: - | AP27: 合計 | BG27: 6203933 | BO27: 100 | BS27: - | CD27: 扶助費 | CR27: 1909424 | CZ27: 17.6 | DD27: 867383 | DL27: 639243 | DW27: 8.3
B28: 使用料 | R28: 78790 | Z28: 0.7 | AD28: 23933 | AL28: 0.3 | CD28: 公債費 | CR28: 302301 | CZ28: 2.8 | DD28: 302301 | DL28: 302301 | DW28: 3.9
B29: 手数料 | R29: 22498 | Z29: 0.2 | AD29: - | AL29: - | CD29: 内訳 | CF29: 元利償還金 | CR29: 302301 | CZ29: 2.8 | DD29: 302301 | DL29: 302301 | DW29: 3.9
B30: 国庫支出金 | R30: 1375739 | Z30: 12.1 | AD30: - | AL30: - | AP30: 区分 | BG30: 令和6年度 | BR30: 令和5年度 | CF30: うち元金 | CR30: 273546 | CZ30: 2.5 | DD30: 273546 | DL30: 273546 | DW30: 3.6
B31: 国有提供交付金(特別区財調交付金) | R31: - | Z31: - | AD31: - | AL31: - | AP31: 徴収率 (％) | AT31: 現年 | AX31: 合計 | BG31: 99.6 | BM31: 98.9 | BR31: 99.6 | BX31: 98.9 | CF31: うち利子 | CR31: 28755 | CZ31: 0.3 | DD31: 28755 | DL31: 28755 | DW31: 0.4
B32: 都道府県支出金 | R32: 557977 | Z32: 4.9 | AD32: - | AL32: - | AU32: ・計 | AX32: 市町村民税 | BG32: 99.3 | BM32: 98.1 | BR32: 99.4 | BX32: 98.4 | CF32: 一時借入金利子 | CR32: - | CZ32: - | DD32: - | DL32: - | DW32: -
B33: 財産収入 | R33: 130637 | Z33: 1.1 | AD33: 2587 | AL33: 0 | AX33: 純固定資産税 | BG33: 99.8 | BM33: 99.4 | BR33: 99.7 | BX33: 99.3 | CD33: その他の経費 | CR33: 4950027 | CZ33: 45.7 | DD33: 4169029 | DL33: 3036035 | DW33: 39.4
B34: 寄附金 | R34: 126253 | Z34: 1.1 | AD34: - | AL34: - | CD34: 物件費 | CR34: 1638735 | CZ34: 15.1 | DD34: 1324681 | DL34: 1218163 | DW34: 15.8
B35: 繰入金 | R35: 403799 | Z35: 3.6 | AD35: - | AL35: - | AQ35: 公営事業等への繰出 | BG35: 国民健康保険事業会計の状況 | CD35: 維持補修費 | CR35: 95611 | CZ35: 0.9 | DD35: 89501 | DL35: 89501 | DW35: 1.2
B36: 繰越金 | R36: 508648 | Z36: 4.5 | AD36: - | AL36: - | AQ36: 合計 | AZ36: 1079926 | BG36: 実質収支 | BV36: 15252 | CD36: 補助費等 | CR36: 1365933 | CZ36: 12.6 | DD36: 1269051 | DL36: 1064727 | DW36: 13.8
B37: 諸収入 | R37: 467147 | Z37: 4.1 | AD37: 5315 | AL37: 0.1 | AQ37: 下水道 | AZ37: 332537 | BG37: 再差引収支 | BV37: -33507 | CD37: うち一部事務組合負担金 | CR37: 639882 | CZ37: 5.9 | DD37: 639882 | DL37: 639882 | DW37: 8.3
B38: 地方債 | R38: - | Z38: - | AD38: - | AL38: - | AQ38: 上水道 | AZ38: 11303 | BG38: 加入世帯数(世帯) | BV38: 2167 | CD38: 繰出金 | CR38: 736086 | CZ38: 6.8 | DD38: 616983 | DL38: 547440 | DW38: 7.1
B39: うち減収補塡債(特例分) | R39: - | Z39: - | AD39: - | AL39: - | AQ39: 工業用水道 | AZ39: - | BG39: 被保険者数(人) | BV39: 3221 | CD39: 積立金 | CR39: 954458 | CZ39: 8.8 | DD39: 752609 | DL39: - | DW39: -
B40: うち臨時財政対策債 | R40: - | Z40: - | AD40: - | AL40: - | AQ40: 交通 | AZ40: - | BG40: 被保険者 1人当り | BM40: 保険税(料)収入額 | BV40: 132 | CD40: 投資・出資金・貸付金 | CR40: 159204 | CZ40: 1.5 | DD40: 116204 | DL40: 116204 | DW40: 1.5
...

Sheet 各会計、関係団体の財政状況及び健全化判断比率
A2: (2)各会計、関係団体の財政状況及び健全化判断比率（市町村） | DJ2: 令和6年度 | DQ2: 愛知県大口町
A4: 一般会計等の財政状況（単位：百万円） | BQ4: 地方公社・第三セクター等の経営状況及び地方公共団体の財政的支援の状況（単位：百万円）
A5: 会計名 | Q5: 歳入 | V5: 歳出 | AA5: 形式収支 | AF5: 実質収支 | AK5: 他会計等 からの 繰入金 | AP5: 地方債 現在高 | AU5: 備考 | BQ5: 地方公社・第三セクター等名 | CH5: 経常損益 | CM5: 純資産又は 正味財産 | CR5: 当該団体 からの 出資金 | CW5: 当該団体 からの 補助金 | DB5: 当該団体 からの 貸付金 | DG5: 当該団体からの債務保証に係る債務残高 | DL5: 当該団体からの損失補償に係る債務残高 | DQ5: 一般会計等 負担見込額 | DV5: 備考
A7: 1 | B7: 一般会計 | Q7: 11301 | V7: 10765 | AA7: 536 | AF7: 299 | AK7: 363 | AP7: 2771 | BQ7: 1
A8: 2 | B8: 国際交流事業特別会計 | Q8: 8 | V8: 8 | AA8: - | AF8: - | AK8: 6 | AP8: - | BQ8: 2
A9: 3 | B9: 土地取得特別会計 | Q9: 97 | V9: 97 | AA9: - | AF9: - | AK9: - | AP9: - | BQ9: 3
A10: 4 | B10: 次世代育成事業特別会計 | Q10: 13 | V10: 13 | AA10: - | AF10: - | AK10: 13 | AP10: - | BQ10: 4
A11: 5 | BQ11: 5
A12: 6 | BQ12: 6
A13: 7 | BQ13: 7
A14: 8 | BQ14: 8
A15: 9 | BQ15: 9
A16: 10 | BQ16: 10
A17: 11 | BQ17: 11
A18: 12 | BQ18: 12
A19: 13 | BQ19: 13
A20: 14 | BQ20: 14
A21: 15 | BQ21: 15
A22: 16 | AZ22: 実質赤字額 | BQ22: 16
A23: 計 | B23: 一般会計等（純計） | Q23: 11370 | V23: 10833 | AA23: 536 | AF23: 299 | AP23: 2771 | AZ23: - | BQ23: 17
A24: ※一般会計等（純計）は、各会計の相互間の繰入・繰出等の重複を控除したものであり、各会計の合計と一致しない場合がある。 | BQ24: 18
A25: 公営企業会計等の財政状況（単位：百万円） | BQ25: 19
A26: 会計名 | Q26: 総収益 （歳入） | V26: 総費用 （歳出） | AA26: 純損益 （形式収支） | AF26: 資金剰余額 /不足額 （実質収支） | AK26: 他会計等 からの 繰入金 | AP26: 企業債 （地方債） 現在高 | AU26: 左のうち 一般会計等 繰入見込額 | AZ26: 資金不足 比率 | BE26: 備考 | BQ26: 20
BQ27: 21
A28: 1 | B28: 国民健康保険特別会計 | Q28: 1895 | V28: 1880 | AA28: 15 | AF28: 15 | AK28: 181 | AP28: - | AU28: - | AZ28: - | BQ28: 22
A29: 2 | B29: 後期高齢者医療特別会計 | Q29: 443 | V29: 443 | AA29: 0 | AF29: 0 | AK29: 56 | AP29: - | AU29: - | AZ29: - | BQ29: 23
A30: 3 | B30: 介護保険特別会計 | Q30: 1546 | V30: 1537 | AA30: 9 | AF30: 9 | AK30: 269 | AP30: - | AU30: - | AZ30: - | BQ30: 24
A31: 4 | B31: 下水道事業会計 | Q31: 708 | V31: 654 | AA31: 54 | AF31: 133 | AK31: 333 | AP31: 2353 | AU31: 1517 | AZ31: - | BE31: 法適用企業 | BQ31: 25
A32: 5 | BQ32: 26
A33: 6 | BQ33: 27
A34: 7 | BQ34: 28
A35: 8 | BQ35: 29
A36: 9 | BQ36: 30
A37: 10 | BQ37: 31
A38: 11 | BQ38: 32
A39: 12 | BQ39: 33
A40: 13 | BQ40: 34
A41: 14 | BQ41: 35
A42: 15 | BQ42: 36
A43: 16 | BQ43: 37
...

Sheet 財政比較分析表

Sheet 経常経費分析表（経常収支比率の分析）

Sheet 経常経費分析表（人件費・公債費・普通建設事業費の分析）
A5: 人件費及び人件費に準ずる費用の分析
AK6: 人件費及び人件費に準ずる費用
AO7: 当該団体決算額 （千円） | AQ7: 人口1人当たり決算額
AP8: 当該団体（円） | AQ8: 類似団体平均（円） | AR8: 対比（％）
AK9: 人件費 | AO9: 2212509 | AP9: 92173 | AQ9: 83961 | AR9: 9.8
AK10: 一部事務組合負担金（補助費等） | AO10: 340883 | AP10: 14201 | AQ10: 9090 | AR10: 56.2
AK11: 公営企業（法適）等に対する繰出し（補助費等） | AO11: 48037 | AP11: 2001 | AQ11: 842 | AR11: 137.6
AK12: 公営企業（法適）等に対する繰出し（投資及び出資金・貸付金） | AO12: - | AP12: - | AQ12: 5 | AR12: -
AK13: 公営企業（法非適）等に対する繰出し（繰出金） | AO13: 68796 | AP13: 2866 | AQ13: 2396 | AR13: 19.6
AK14: 事業費支弁に係る職員の人件費（投資的経費） | AO14: 18344 | AP14: 764 | AQ14: 1197 | AR14: -36.2
AK15: ▲退職金 | AO15: -104622 | AP15: -4359 | AQ15: -4989 | AR15: -12.6
AK16: 合計 | AO16: 2583947 | AP16: 107647 | AQ16: 92501 | AR16: 16.4
AK19: 参考
AO20: 当該団体 | AP20: 類似団体平均 | AQ20: 対比（差引）
AK21: 人口1,000人当たり職員数（人） | AO21: 7.29 | AP21: 7.91 | AQ21: -0.62
AK22: ラスパイレス指数 | AO22: 96.5 | AP22: 97.2 | AQ22: -0.7
A26: （注）人口については、各調査対象年度の1月1日現在の住民基本台帳に登載されている人口に基づいている。
A28: 公債費及び公債費に準ずる費用の分析
AK29: 公債費及び公債費に準ずる費用（実質公債費比率の構成要素）
AO30: 当該団体決算額 （千円） | AQ30: 人口1人当たり決算額
AP31: 当該団体（円） | AQ31: 類似団体平均（円） | AR31: 対比（％）
AK32: 元利償還金の額 （繰上償還額等を除く） | AO32: 302301 | AP32: 12594 | AQ32: 33492 | AR32: -62.4
AK33: 積立不足額を考慮して算定した額 | AO33: - | AP33: - | AQ33: - | AR33: -
AK34: 満期一括償還地方債の一年当たりの元金償還金に相当するもの （年度割相当額） | AO34: - | AP34: - | AQ34: - | AR34: -
AK35: 公営企業に要する経費の財源とする地方債の償還の財源に 充てたと認められる繰入金 | AO35: 166706 | AP35: 6945 | AQ35: 10423 | AR35: -33.4
AK36: 一部事務組合等の起こした地方債に充てたと認められる 補助金又は負担金 | AO36: 7858 | AP36: 327 | AQ36: 3289 | AR36: -90.1
AK37: 公債費に準ずる債務負担行為に係るもの | AO37: - | AP37: - | AQ37: 152 | AR37: -
AK38: 一時借入金利子 （同一団体における会計間の現金運用に係る利子は除く） | AO38: - | AP38: - | AQ38: 2 | AR38: -
AK39: ▲特定財源の額 | AO39: - | AP39: - | AQ39: -2605 | AR39: -
AK40: ▲地方債に係る元利償還金及び準元利償還金に要する経費として 普通交付税の額の算定に用いる基準財政需要額に算入された額 | AO40: -311995 | AP40: -12998 | AQ40: -28956 | AR40: -55.1
AK41: 合計 | AO41: 164870 | AP41: 6868 | AQ41: 15797 | AR41: -56.5
A47: （参考） 普通建設事業費の分析
AK48: 普通建設事業費
AM49: 当該団体決算額 （千円） | AN49: 人口１人当たり決算額
AN50: 当該団体(円) | AO50: 増減率(%)(A) | AP50: 類似団体平均(円) | AQ50: 増減率(%)(B) | AR50: (A)-(B)
AK51: R02 | AM51: 1850727 | AN51: 76093 | AO51: 14.5 | AP51: 53895 | AQ51: -8.8 | AR51: 23.3
AL52: うち単独分 | AM52: 995872 | AN52: 40945 | AO52: -9.9 | AP52: 31224 | AQ52: 4.4 | AR52: -14.3
AK53: R03 | AM53: 1346356 | AN53: 55447 | AO53: -27.1 | AP53: 56181 | AQ53: 4.2 | AR53: -31.3
AL54: うち単独分 | AM54: 498163 | AN54: 20516 | AO54: -49.9 | AP54: 32039 | AQ54: 2.6 | AR54: -52.5
AK55: R04 | AM55: 2260038 | AN55: 93259 | AO55: 68.2 | AP55: 47730 | AQ55: -15 | AR55: 83.2
...

Sheet 性質別歳出決算分析表（住民一人当たりのコスト）

Sheet 目的別歳出決算分析表（住民一人当たりのコスト）

Sheet 実質収支比率等に係る経年分析
J45: 標準財政規模比（％）
B46: 区分 | E46: 年度 | F46: R02 | G46: R03 | H46: R04 | I46: R05 | J46: R06
C47: 財政調整基金残高 | F47: 37.34 | G47: 41.79 | H47: 43.28 | I47: 38.91 | J47: 38.74
C48: 実質収支額 | F48: 2.59 | G48: 3.04 | H48: 4.06 | I48: 4.51 | J48: 3.76
C49: 実質単年度収支 | F49: ▲ 4.94 | G49: ▲ 1.26 | H49: 5.4 | I49: 0.87 | J49: 3.33

Sheet 連結実質赤字比率に係る赤字・黒字の構成分析
J32: 標準財政規模比（％）
B33: 会計 | E33: 年度 | F33: R02 | G33: R03 | H33: R04 | I33: R05 | J33: R06
C34: 一般会計 | F34: 2.58 | G34: 3.04 | H34: 4.05 | I34: 4.51 | J34: 3.75
C35: 下水道事業会計 | F35: - | G35: - | H35: - | I35: 0.77 | J35: 1.67
C36: 国民健康保険特別会計 | F36: 0.68 | G36: 1.37 | H36: 0.94 | I36: 0.61 | J36: 0.19
C37: 介護保険特別会計 | F37: 0.1 | G37: 0.14 | H37: 0.29 | I37: 0.03 | J37: 0.11
C38: 後期高齢者医療特別会計 | F38: 0.14 | G38: 0.01 | H38: 0.02 | I38: 0.01 | J38: 0
C39: 国際交流事業特別会計 | F39: 0 | G39: 0 | H39: 0 | I39: 0 | J39: 0
C40: 土地取得特別会計 | F40: 0 | G40: 1.16 | H40: 0 | I40: 0 | J40: 0
C41: 次世代育成事業特別会計 | F41: - | G41: 0 | H41: 0 | I41: 0 | J41: 0
C42: その他会計（赤字） | F42: - | G42: - | H42: - | I42: - | J42: -
C43: その他会計（黒字） | F43: 0 | G43: 0 | H43: 0 | I43: - | J43: -

Sheet 実質公債費比率（分子）の構造
O43: （百万円）
B44: 分子の構造 | J44: 年度 | K44: R02 | L44: R03 | M44: R04 | N44: R05 | O44: R06
B45: 元利償還金等(A) | E45: 元利償還金 | K45: 215 | L45: 234 | M45: 246 | N45: 300 | O45: 302
E46: 減債基金積立不足算定額※2 | K46: - | L46: - | M46: - | N46: - | O46: -
E47: 満期一括償還地方債に係る年度割相当額 | K47: - | L47: - | M47: - | N47: - | O47: -
E48: 公営企業債の元利償還金に対する繰入金 | K48: 292 | L48: 252 | M48: 210 | N48: 171 | O48: 167
E49: 組合等が起こした地方債の元利償還金に対する負担金等 | K49: 34 | L49: 20 | M49: 8 | N49: 8 | O49: 8
E50: 債務負担行為に基づく支出額 | K50: - | L50: - | M50: - | N50: - | O50: -
E51: 一時借入金の利子 | K51: - | L51: - | M51: - | N51: - | O51: -
B52: 算入公債費等(B) | E52: 算入公債費等 | K52: 440 | L52: 420 | M52: 397 | N52: 353 | O52: 312
B53: (A)－(B) | E53: 実質公債費比率の分子 | K53: 101 | L53: 86 | M53: 67 | N53: 126 | O53: 165
B54: ※ 減債基金積立不足算定額=(C)×(１－(D)/(E))
B56: （参考） | O56: （百万円）
J57: 年度 | K57: R02 | L57: R03 | M57: R04 | N57: R05 | O57: R06
B58: 減債基金 積立状況等（注） | D58: 満期一括償還地方債に係る実質償還額又は理論償還額のいずれか少ない額(C) | K58: - | L58: - | M58: - | N58: - | O58: -
D59: 前年度末減債基金残高(D) | K59: - | L59: - | M59: - | N59: - | O59: -
D60: 前年度末減債基金積立相当額(E) | K60: - | L60: - | M60: - | N60: - | O60: -
D61: （注）減債基金のうち、実質公債費比率の算定に用いる満期一括償還地方債の償還の財源に係るもののみを記入。
D62: 減債基金積立金の年度を超えた一般会計又は特別会計への貸付額は控除して記入。

Sheet 将来負担比率（分子）の構造
M39: （百万円）
B40: 分子の構造 | H40: 年度 | I40: R02 | J40: R03 | K40: R04 | L40: R05 | M40: R06
B41: 将来負担額(A) | E41: 一般会計等に係る地方債の現在高 | I41: 2485 | J41: 2410 | K41: 3132 | L41: 3044 | M41: 2771
E42: 債務負担行為に基づく支出予定額 | I42: - | J42: - | K42: - | L42: - | M42: -
E43: 公営企業債等繰入見込額 | I43: 2347 | J43: 2083 | K43: 1967 | L43: 1704 | M43: 1517
E44: 組合等負担等見込額 | I44: 48 | J44: 28 | K44: 35 | L44: 34 | M44: 116
E45: 退職手当負担見込額 | I45: 1563 | J45: 1580 | K45: 1586 | L45: 1585 | M45: 1475
E46: 設立法人等の負債額等負担見込額 | I46: - | J46: - | K46: - | L46: - | M46: -
E47: うち、健全化法施行規則附則第三条に係る負担見込額 | I47: - | J47: - | K47: - | L47: - | M47: -
E48: 連結実質赤字額 | I48: - | J48: - | K48: - | L48: - | M48: -
E49: 組合等連結実質赤字額負担見込額 | I49: - | J49: - | K49: - | L49: - | M49: -
B50: 充当可能財源等(B) | E50: 充当可能基金 | I50: 4175 | J50: 4219 | K50: 4718 | L50: 4616 | M50: 5279
E51: 充当可能特定歳入 | I51: - | J51: - | K51: - | L51: - | M51: -
E52: 基準財政需要額算入見込額 | I52: 3064 | J52: 2897 | K52: 2729 | L52: 2453 | M52: 2227
B53: (A)－(B) | E53: 将来負担比率の分子 | I53: -796 | J53: -1016 | K53: -727 | L53: -702 | M53: -1626

Sheet 基金残高に係る経年分析
H53: （百万円）
B54: 区分 | E54: 年度 | F54: R04 | G54: R05 | H54: R06
C55: 財政調整基金 | F55: 2792 | G55: 2792 | H55: 3082
C56: 減債基金 | F56: - | G56: - | H56: -
C57: その他特定目的基金 | F57: 1777 | G57: 1824 | H57: 2112
C58: 明日のまちづくり基金 | F58: 878 | G58: 954 | H58: 1120
C59: 電算機器整備事業基金 | F59: 438 | G59: 360 | H59: 422
C60: 尾張北部新ごみ処理施設建設事業基金 | F60: 40 | G60: 80 | H60: 120
C61: ふるさとづくり基金 | F61: 95 | G61: 107 | H61: 116
C62: 江南丹羽環境管理組合環境美化センター解体事業基金 | F62: 77 | G62: 85 | H62: 93
C63: 基金残高合計 | F63: 4569 | G63: 4616 | H63: 5194

Sheet 公会計指標分析・財政指標組合せ分析表
B41: 将来負担比率及び有形固定資産減価償却率の組合せによる分析
AN42: 分析欄
AN43: 将来負担比率は、地方債や債務負担行為等の将来負担が少なく、基金等の充当可能財源等が多いため、毎年比率なしとなっており、債務償還能力が高い状態を維持している。 有形固定資産減価償却率は、類似団体内平均値と同程度の水準となっており、微増を続けている。現在将来負担はないものの、公共施設等の老朽化は進んでいるので、計画に基づき適切な維持管理を行う。
AN49: ( 参考 ）
BP50: R02 | BX50: R03 | CF50: R04 | CN50: R05 | CV50: R06
AN51: 当該団体値 | BB51: 将来負担比率
BB53: 有形固定資産減価償却率 | BP53: 62.1 | BX53: 63.2 | CF53: 63.6 | CN53: 64.7 | CV53: 66
AN55: 類似団体内平均値 | BB55: 将来負担比率 | BP55: 10.9 | BX55: 6.5 | CF55: 0 | CN55: 0 | CV55: 0
BB57: 有形固定資産減価償却率 | BP57: 62.2 | BX57: 63.6 | CF57: 64.7 | CN57: 66.1 | CV57: 67.7
B63: 将来負担比率及び実質公債費比率の組合せによる分析
AN64: 分析欄
AN65: 将来負担比率は、地方債や債務負担行為等の将来負担が少なく、基金等の充当可能財源等が多いため、毎年比率なしとなっている。 実質公債費比率は、ほぼ横ばいで推移しており、類似団体内平均値より低い水準にある。引き続き、地方債の発行等については、慎重に検討し、将来負担を公平に健全な財政運営に努めていく。
AN71: ( 参考 ）
BP72: R02 | BX72: R03 | CF72: R04 | CN72: R05 | CV72: R06
AN73: 当該団体値 | BB73: 将来負担比率
BB75: 実質公債費比率 | BP75: 0.8 | BX75: 1.2 | CF75: 1.3 | CN75: 1.4 | CV75: 1.7
AN77: 類似団体内平均値 | BB77: 将来負担比率 | BP77: 10.9 | BX77: 6.5 | CF77: 0 | CN77: 0 | CV77: 0
BB79: 実質公債費比率 | BP79: 5.9 | BX79: 5.9 | CF79: 6.1 | CN79: 6.5 | CV79: 6.6

Sheet 施設類型別ストック情報分析表①

Sheet 施設類型別ストック情報分析表②
