Workbook
Name DATAAREA: [1]H8所要!$A$4:$BI$121
Name DATAAREA_2: #REF!
Name FILTER_AREA: [1]H8所要!$A$3:$BI$121
Name TEMP: [2]Sheet1!$A$2:$H$91
Name 条件1: #REF!
Name 条件2: #REF!
Name 条件3: #REF!
Name 条件9A: #REF!
Name 条件9B: #REF!
Name 条件9B特: #REF!
Name 条件A: #REF!
Name 条件B: #REF!
Name 条件B特: #REF!
Name 保育料月額: [1]H8所要!$V$3:$V$92
Name 保母等常勤職員換算数: [1]H8所要!$Q$3:$Q$92

Sheet 【交付申請】別紙様式1
A1: （別紙様式１（訪問看護職員就労支援事業費補助金））
H2: 番号
H3: 令和８年 月 日
B5: 愛 知 県 知 事 殿
E7: （住所）
E8: 補助事業者名
E9: （代表者職名）
E10: （代表者氏名）
A12: 令和８年度訪問看護職員就労支援事業費補助金の交付申請について
A14: このことについて、下記のとおり関係書類を添えて申請します。
E16: 記
A18: １ | B18: 申請額 | D18: 金 | E18: ='1-1'!J19 -> 0 | F18: 円
A20: ２ | B20: 事業所要額調書（別紙１－１）
B21: 対象経費の支出予定額明細書（別紙１－２）
B22: 事業計画明細書（別紙１－３）
B23: 歳入歳出予算書（別紙１－４）
A25: ３ | B25: 添付書類
B26: その他参考資料

Sheet 1-1
A1: 別紙１－１（訪問看護職員就労支援事業費補助金）
B3: 令和８年度 訪問看護職員就労支援事業所要額調書
H5: 補助事業者名 | I5: =IF(【交付申請】別紙様式1!F8="","",【交付申請】別紙様式1!F8)
F7: 基 準 額
A8: 事業所名 | B8: 総事業費 | C8: 寄附金 その他の 収入額 | D8: 差引額 （Ａ－Ｂ） | E8: 対象経費の 支出予定額 | H8: 選定額 | I8: 補助基本額 | J8: 補助所要額 | K8: 備考
F9: 新人訪問 看護職員 数
G10: 計
B11: (A) | C11: (B) | D11: (C) | E11: (D) | H11: (F) | I11: (G) | J11: (H)
G12: (E) | J12: ×1/2
B13: 円 | C13: 円 | D13: 円 | E13: 円 | F13: 人 | G13: 円 | H13: 円 | I13: 円 | J13: 円
D14: =B14-C14 -> 0 | E14: ='1-2'!B43 -> 0 | G14: =F14*180000 -> 0 | H14: =MIN(E14,G14) -> 0 | I14: =MIN(D14,H14) -> 0 | J14: =ROUNDDOWN(I14/2,-3) -> 0
D15: =B15-C15 -> 0 | G15: =F15*180000 -> 0 | H15: =MIN(E15,G15) -> 0 | I15: =MIN(D15,H15) -> 0 | J15: =ROUNDDOWN(I15/2,-3) -> 0
D16: =B16-C16 -> 0 | G16: =F16*180000 -> 0 | H16: =MIN(E16,G16) -> 0 | I16: =MIN(D16,H16) -> 0 | J16: =ROUNDDOWN(I16/2,-3) -> 0
D17: =B17-C17 -> 0 | G17: =F17*180000 -> 0 | H17: =MIN(E17,G17) -> 0 | I17: =MIN(D17,H17) -> 0 | J17: =ROUNDDOWN(I17/2,-3) -> 0
D18: =B18-C18 -> 0 | G18: =F18*180000 -> 0 | H18: =MIN(E18,G18) -> 0 | I18: =MIN(D18,H18) -> 0 | J18: =ROUNDDOWN(I18/2,-3) -> 0
A19: 合計 | B19: =SUM(B14:B18) -> 0 | C19: =SUM(C14:C18) -> 0 | D19: =SUM(D14:D18) -> 0 | E19: =SUM(E14:E18) -> 0 | F19: =SUM(F14:F18) -> 0 | G19: =SUM(G14:G18) -> 0 | H19: =SUM(H14:H18) -> 0 | I19: =SUM(I14:I18) -> 0 | J19: =SUM(J14:J18) -> 0
A21: (注)１ F欄にはD欄とE欄のいずれか低い方の額を記入すること。
A22: ２ G欄にはC欄とＦ欄とを比較して、いずれか低い方の額を記入すること。
A23: ３ H欄にはG欄の金額に１／２を乗じた金額（ただし、1,000円未満の端数が生じた場合には、これを切り捨てるものとする。）を記入すること。

Sheet 1-2
A1: 別紙１－２（訪問看護職員就労支援事業費補助金）
A3: 対象経費の支出予定額明細書
I5: 事業所名
A7: 区分 | B7: 補助対象経費
B8: 支出予定額 | D8: 算出内訳
C9: 円
A10: 人件費
A11: 給料
A43: 合計 | B43: =SUM(B9:B42) -> 0

Sheet (１-2計算シート)
A3: 下記に入力すると、支出額を一人ずつ自動計算できます。
A4: 必要に応じて御使用ください。
B8: 補助対象経費
B9: 支出予定額 | D9: 算出内訳
A11: パターン１ 給料(月給) | D11: 【 | E11: 受講者名 | G11: ●● ●● | J11: 】
B12: =L13 -> #DIV/0! | E12: 月給 | G12: / | H12: 平均 出勤日数 | J12: / | K12: 勤務 時間 | M12: ＝ | N12: 時給 | O12: =ROUNDDOWN(F12/I12/L12,0) -> #DIV/0!
E13: 研修 時間 | G13: × | H13: 時給 | I13: =O12 -> #DIV/0! | J13: ＝ | K13: 支出予定額 | L13: =ROUNDDOWN(F13*I13,0) -> #DIV/0!
A15: パターン２ 給料(時給) | D15: 【 | E15: 受講者名 | G15: ●● ●● | J15: 】
B16: =L16 -> 0 | E16: 研修 時間 | G16: × | H16: 時給 | J16: ＝ | K16: 支出予定額 | L16: =ROUNDDOWN(F16*I16,0) -> 0

Sheet 1-3
A1: 別紙１－３（訪問看護職員就労支援事業費補助金） | R1: （ 枚中 枚）
A3: 事業計画明細書
L5: 事業所名
A7: 受講者名
A8: 研修予定期間 | E8: 年 | G8: 月 | I8: 日 | J8: ～ | L8: 年 | N8: 月 | P8: 日
A9: 就労開始日 | E9: 年 | G9: 月 | I9: 日
A11: 研修内容 | Q11: 研修予定時間 | R11: 研修指導者
A31: 合計 | Q31: =SUM(Q12:Q30) -> 0
A32: 受講者１名につき、本紙を１枚作成すること。
A33: 研修時間には、訪問先での研修に必要な移動時間を含むことができる。
A34: 研修時間には、休憩時間は含まない。
N37: 時間計算 | Q37: =Q31*24 -> 0

Sheet 1-4
A1: （別紙様式１－４（訪問看護職員就労支援事業費補助金））
A3: 令和８年度歳入歳出予算書抄本
A5: 歳入
B6: 款 | C6: 項 | D6: 目 | E6: 予算現額 | F6: 節 | H6: 説明
F7: 区分 | G7: 金額
E8: 円 | G8: 円
A16: 歳出
B17: 款 | C17: 項 | D17: 目 | E17: 予算現額 | F17: 節 | H17: 説明
F18: 区分 | G18: 金額
E19: 円 | G19: 円 | H19: 円
B26: 証明について
B27: 原本と相違ないことを証明します。 | E27: 令和８年 月 日
C28: =IF(【交付申請】別紙様式1!F8="","",【交付申請】別紙様式1!F8)
C29: 代表者職名 | D29: =IF(【交付申請】別紙様式1!F9="","",【交付申請】別紙様式1!F9)
C30: 代表者氏名 | D30: =IF(【交付申請】別紙様式1!F10="","",【交付申請】別紙様式1!F10)

Sheet 集計作業シート【入力不要。削除しないでください。】
C5: 【実績報告】
C6: 補助事業者名 | D6: 代表者職名 | E6: 代表者氏名 | F6: 文書番号 | G6: 日付 | H6: 補助金所要額
C7: =【交付申請】別紙様式1!F8 -> 0 | D7: =【交付申請】別紙様式1!F9 -> 0 | E7: =【交付申請】別紙様式1!F10 -> 0 | F7: =【交付申請】別紙様式1!H2 -> 番号 | G7: =【交付申請】別紙様式1!H3 -> 令和８年 月 日 | H7: =【交付申請】別紙様式1!E18 -> 0
